BEGIN:VCALENDAR
VERSION:2.0
CALSCALE:GREGORIAN
PRODID:https://xkale.karlsruhe.de/db/termine/
METHOD:PUBLISH
BEGIN:VEVENT
UID:579737
ORGANIZER;CN=Badische Landesbibliothek:MAILTO:service@blb-karlsruhe.de
LOCATION:Badische Landesbibliothek
SUMMARY:Ein Hidden Place mitten in der Stadt
DESCRIPTION;ENCODING=QUOTED-PRINTABLE:Mit Heike Susanne Lukas=0D=0A=0D=0A  Kleine Zeitreise gef=C3=A4llig? Die stellvertr
 etende Direktorin Heike  Susanne Lukas begleitet Sie in die =C3=84ra des Ka
 lten Krieges: In den  1980er Jahren wurde unter der Badischen Landesbibliot
 hek ein  Zivilschutzraum eingerichtet\, der im Falle eines Atomkriegs  Schut
 z bieten sollte und heute nahezu vergessen ist =E2=80=93 und doch  von trau
 riger Aktualit=C3=A4t.    Begrenzte Teilnehmerzahl.  =0D=0A  Nur mit vorheriger
  Anmeldung an     kultur@blb-karlsruhe.de.  =0D=0A  Treffpunkt: Foyer der BLB. 
 =20
URL:https://xkale.karlsruhe.de/db/termine/architektur/ein_hidden_place_mitten_in_der_stadt-8
CLASS:PUBLIC
DTSTART:20260529T170000
DTEND:
DTSTAMP:20260303T134230
CATEGORIES:Architektur, Baukultur
ATTACH:https://xkale.karlsruhe.de/db/termine/architektur/ein_hidden_place_mitten_in_der_stadt-8/file/icon_Aussenaufnahme_Uli_Deck.jpg
END:VEVENT

END:VCALENDAR
