BEGIN:VCALENDAR
VERSION:2.0
CALSCALE:GREGORIAN
PRODID:https://xkale.karlsruhe.de/db/termine/
METHOD:PUBLISH
BEGIN:VEVENT
UID:576142
ORGANIZER;CN=Stadtmuseum im Prinz-Max-Palais:MAILTO:stadtmuseum@kultur.karlsruhe.de
LOCATION:Stadtmuseum im Prinz-Max-Palais
SUMMARY:Hidden Stories. Gemälde erzählen Stadtgeschichte(n)
DESCRIPTION;ENCODING=QUOTED-PRINTABLE:Sonderausstellung im Stadtmuseum=0D=0A=0D=0A  Eine Auswahl vielf=C3=A4ltiger Kunstw
 erke und die mit diesen verkn=C3=BCpften Geschichten pr=C3=A4sentiert das S
 tadtmuseum im Prinz-Max-Palais in dieser Sonderausstellung    Der=C2=A0Eint
 rittspreis betr=C3=A4gt 2 Euro\, erm=C3=A4=C3=9Figt 1 Euro. =20
URL:https://xkale.karlsruhe.de/db/termine/ausstellungen/hidden_stories_gemalde_erzahlen_stadtgeschichten
CLASS:PUBLIC
DTSTART:20251213T000000
DTEND:20260614T000000
DTSTAMP:20251127T112701
CATEGORIES:Kunst, Ausstellungen
ATTACH:https://xkale.karlsruhe.de/db/termine/ausstellungen/hidden_stories_gemalde_erzahlen_stadtgeschichten/file/icon_HiddenStories_Webvorschau_V1.jpg
END:VEVENT

END:VCALENDAR
