BEGIN:VCALENDAR
VERSION:2.0
CALSCALE:GREGORIAN
PRODID:https://xkale.karlsruhe.de/db/termine/
METHOD:PUBLISH
BEGIN:VEVENT
UID:573730
ORGANIZER;CN=Badischer Landesverein für Innere Mission:MAILTO:info@b-lv.de
LOCATION:Badischer Landesverein für Innere Mission, Südendstraße 12, 76137 Karlsruhe
SUMMARY:Inspiration "Leben"...
DESCRIPTION;ENCODING=QUOTED-PRINTABLE:Der Badische Landesverein f=C3=BCr Innere Mission l=C3=A4dt Sie ein zur akt
 uellen Ausstellung Inspiration "Leben" von Helga Betsarkis. Die Ausstellung
  bietet einen einzigartigen R=C3=BCckblick auf vier Jahrzehnte k=C3=BCnstle
 rischen Schaffens\, das sich in vielf=C3=A4ltigen Stilen und Ausdrucksformen
  manifestiert.=0D=0A=0D=0A    =C3=96ffnungszeiten:   =0D=0A   Montag - Freitag\, 9-16 Uh
 r   =0D=0A   ________        Aus der Laudatio von Paul Blau:      =0D=0A   "Bei ihr
  geh=C3=B6ren ihre Pers=C3=B6nlichkeit\, ihre Haltung und ihre Spiritualit
 =C3=A4t mit ihren Ausdrucksformen so eng zusammen\, wie es nur sein kann." .
 .. "Es findet sich aber auch die Sehnsucht darin\, die Sehnsucht nach fernen
  Welten\, die Sehnsucht nach der tiefen Durchdringung des Lebens." ... "Ihre
  Kunst ist niemals oberfl=C3=A4chlich\, h=C3=B6chstens manchmal ein wenig sp
 ielerisch." ... "Man hat das Gef=C3=BChl\, diese Kunst und die Person sind e
 ins."        Foto:    Im Sog der Welten\, Acryl auf Leinwand (2024)  =0D=0A     
 =0D=0A   Retrospektive von Helga Betsarkis zeigt vier Jahrzehnte k=C3=BCnstleri
 schen Schaffens   =0D=0A    Bis zum 20. Mai 2026 wird die Ausstellung =E2=80=9E
 Inspiration Leben=E2=80=9C in den  R=C3=A4umlichkeiten des Badischen Landes
 vereins (BLV) in der S=C3=BCdendstra=C3=9Fe 12  pr=C3=A4sentiert. Die Werks
 chau der K=C3=BCnstlerin Helga Betsarkis bietet einen  R=C3=BCckblick auf v
 ier Jahrzehnte k=C3=BCnstlerischen Schaffens und l=C3=A4dt  die Besucherinn
 en und Besucher zur Auseinandersetzung mit den Werken ein\, die sich in sehr
  vielf=C3=A4ltigen Stilen und technisch vielseitigen Darstellungen manifest
 ieren. Die Ausstellung  umfasst ein breites Spektrum von Aquarellen\, Acrylm
 alerei\, Kohle- und Pastellzeichnungen und auch kleineren =C3=96lgem=C3=A4ld
 en bis hin zu  Holzkompositionen und mit Bio-=C3=96l behandelten Waldfunden
 .    www.badischer-landesverein.de/aktuelles      =C3=9Cber Ihren Ausstellu
 ngsbesuch freuen wir uns sehr!        Kontakt:     Helga Betsarkis  =0D=0A  E-M
 ail: Stille-im-Klang@posteo.de  =0D=0A  Tel.: (07246) 8633  =0D=0A  www.handwerkere
 i-sarkis.de  =0D=0A  __________      Vernissage:    Freitag\, 6. Februar 2026\, 1
 6 Uhr  =0D=0A     Laudatio:    Paul Blau (Autor und K=C3=BCnstler)  =0D=0A     Musi
 k:    Boris Reznik (Kontrabass\, Gitarre)\, Helga Betsarkis (Akkordeon)  =0D=0A 
 =20
URL:https://xkale.karlsruhe.de/db/termine/ausstellungen/inspiration_leben
CLASS:PUBLIC
DTSTART:20260206T090000
DTEND:20260520T160000
DTSTAMP:20260420T103626
CATEGORIES:Kunst, Ausstellungen
ATTACH:https://xkale.karlsruhe.de/db/termine/ausstellungen/inspiration_leben/file/icon_Im Sog der Welten Acryl_2024.jpg
END:VEVENT

END:VCALENDAR
