BEGIN:VCALENDAR
VERSION:2.0
CALSCALE:GREGORIAN
PRODID:https://xkale.karlsruhe.de/db/termine/
METHOD:PUBLISH
BEGIN:VEVENT
UID:579733
ORGANIZER;CN=Badische Landesbibliothek:MAILTO:service@blb-karlsruhe.de
LOCATION:Badische Landesbibliothek
SUMMARY:Träume, Wunder, Travelslam
DESCRIPTION;ENCODING=QUOTED-PRINTABLE:Seit Jahrhunderten treiben Tr=C3=A4ume und Abenteuerlust Menschen an\, ferne
  L=C3=A4nder zu erkunden. In der aktuellen Ausstellung werden Reiseberichte
  pr=C3=A4sentiert\, die diese Aufbr=C3=BCche und die erlebten Wunder dokumen
 tieren.=0D=0A=0D=0A    Beim Travelslam geht es um Ihre Reiseerfahrungen: Bringen Si
 e 30 Fotos von einer Reise mit\, die Sie unternommen haben. Jedes zeigen wir
  f=C3=BCr zehn Sekunden. Das sind insgesamt f=C3=BCnf Minuten\, in denen Sie
  Ihre Geschichte erz=C3=A4hlen\, Musik machen oder einfach nur schweigen k
 =C3=B6nnen =E2=80=93 und schon kommt der n=C3=A4chste an die Reihe.    Es w
 ird um Anmeldung unter kultur@blb-karlsruhe.de gebeten\; bitte geben Sie bei
  der Anmeldung auch an\, ob Sie sich mit einem eigenen Beitrag beteiligen m
 =C3=B6chten.    Treffpunkt: Vortragssaal der BLB. =20
URL:https://xkale.karlsruhe.de/db/termine/ausstellungen/traume_wunder_travelslam
CLASS:PUBLIC
DTSTART:20260512T190000
DTEND:20260512T210000
DTSTAMP:20260303T133607
CATEGORIES:Kunst, Ausstellungen
ATTACH:https://xkale.karlsruhe.de/db/termine/ausstellungen/traume_wunder_travelslam/file/icon_Jerusalem_Titelbild_bearbeitet_petrol_Momogram.jpg
END:VEVENT

END:VCALENDAR
