BEGIN:VCALENDAR
VERSION:2.0
CALSCALE:GREGORIAN
PRODID:https://xkale.karlsruhe.de/db/termine/
METHOD:PUBLISH
BEGIN:VEVENT
UID:581071
ORGANIZER;CN=Foto-Medien-Kunst e.V. Grötzingen - FMK:MAILTO:info@fmk-groetzingen.de
LOCATION:Galerie Kunstfachwerk N6
SUMMARY:Wasser
DESCRIPTION;ENCODING=QUOTED-PRINTABLE:Fotoausstellung=0D=0A=0D=0A  Die Mitglieder des Foto-Medien-Kunst Gr=C3=B6tzingen e
 .V. pr=C3=A4sentieren eine Auswahl ihrer Fotos.    Ob abstrakte Details\, Be
 wegungen\, Strukturen\, Farben und Stimmungen\, die Mitglieder des FMK stellen
  sich der Herausforderung zum Thema =E2=80=9EWasser"    Foto: Rolf Mayer 
 =20
URL:https://xkale.karlsruhe.de/db/termine/ausstellungen/wasser
CLASS:PUBLIC
DTSTART:20260426T140000
DTEND:20260426T180000
DTSTAMP:20260422T104923
CATEGORIES:Kunst, Ausstellungen
ATTACH:https://xkale.karlsruhe.de/db/termine/ausstellungen/wasser/file/icon_IMG_1142.jpg
END:VEVENT

END:VCALENDAR
