BEGIN:VCALENDAR
VERSION:2.0
CALSCALE:GREGORIAN
PRODID:https://xkale.karlsruhe.de/db/termine/
METHOD:PUBLISH
BEGIN:VEVENT
UID:577470
ORGANIZER;CN=Deutsch-Italienische Gesellschaft e.V. Karlsruhe:MAILTO:pronto@dig-Karlsruhe.eu
LOCATION:Centro = Schul- und Kulturzentrum der Deutsch-Italienischen Gesellschaft e.V. Karlsruhe
SUMMARY:80 Jahre Italienische Republik
DESCRIPTION;ENCODING=QUOTED-PRINTABLE:Evviva La Repubblica!=0D=0A=0D=0A  Italien  ist eine Republik. Das steht im 1. Arti
 kel der italienischen  Verfassung. Heute ist das eine Selbstverst=C3=A4ndli
 chkeit\, doch der Weg  dahin war steinig und schwer.     Alessandro Bellardi
 ta    \,  Richter und Publizist\, der sich seit Jahren mit der Geschichte der
   deutschen und italienischen Verfassung besch=C3=A4ftigt\, wird uns zu eine
 r  Reise in den magischen und hoffnungsvollen Jahren der Entstehung der  it
 alienischen Verfassung begleiten\, eine Reise\, in welcher wir Menschen  bege
 gnen werden\, die Italien bis heute pr=C3=A4gen - von Nilde Iotti bis hin  z
 u Palmiro Togliatti\, =C3=BCber Alcide De Gasperi und Sandro Pertini!  =0D=0A  $
 $     Der Eintritt ist frei - Spenden sind sehr willkommen!      =0D=0A =20
URL:https://xkale.karlsruhe.de/db/termine/literatur/80_jahre_italienische_republik
CLASS:PUBLIC
DTSTART:20260626T190000
DTSTAMP:20251222T112515
CATEGORIES:Literatur, Vorträge
ATTACH:https://xkale.karlsruhe.de/db/termine/literatur/80_jahre_italienische_republik/file/icon_DIG_Signet-CMYK.jpg
END:VEVENT

END:VCALENDAR
