BEGIN:VCALENDAR
VERSION:2.0
CALSCALE:GREGORIAN
PRODID:https://xkale.karlsruhe.de/db/termine/
METHOD:PUBLISH
BEGIN:VEVENT
UID:579589
ORGANIZER;CN=Badische Landesbibliothek:MAILTO:service@blb-karlsruhe.de
LOCATION:Badische Landesbibliothek
SUMMARY:ChatGPT für Einsteiger
DESCRIPTION;ENCODING=QUOTED-PRINTABLE:F=C3=BCr alle Interessierten =E2=80=93 mit Anmeldung=0D=0A=0D=0A  Sie wollen einen 
 (kostenfreien) sprach- und textbasierten Chatbot effizient nutzen? Am Beisp
 iel von ChatGPT erfahren Sie\, wie textgenerierende KI-Tools funktionieren\, 
 wie Sie sie f=C3=BCr Ihren Alltag nutzen k=C3=B6nnen und welche Alternative
 n es zu ChatGPT gibt. Essenziell ist die Formulierung eines guten Prompts\, 
 um optimale Antworten zu erhalten. Im Workshop erhalten Sie dazu Tipps und 
 Zeit zum Ausprobieren.    Anmeldung erforderlich bis zum 23.6.2026    Veran
 staltungsort: Seminarraum in der Lernwerkstatt =20
URL:https://xkale.karlsruhe.de/db/termine/literatur/chatgpt_fur_einsteiger-5
CLASS:PUBLIC
DTSTART:20260625T170000
DTEND:20260625T181500
DTSTAMP:20260303T100003
CATEGORIES:Literatur, Vorträge
ATTACH:https://xkale.karlsruhe.de/db/termine/literatur/chatgpt_fur_einsteiger-5/file/icon_Key Visual Lernwerkstatt.jpg
END:VEVENT

END:VCALENDAR
