BEGIN:VCALENDAR
VERSION:2.0
CALSCALE:GREGORIAN
PRODID:https://xkale.karlsruhe.de/db/termine/
METHOD:PUBLISH
BEGIN:VEVENT
UID:577469
ORGANIZER;CN=Deutsch-Italienische Gesellschaft e.V. Karlsruhe:MAILTO:pronto@dig-Karlsruhe.eu
LOCATION:Badische Landesbibliothek
SUMMARY:Der Literaturpreis "Premio Strega 2026"
DESCRIPTION;ENCODING=QUOTED-PRINTABLE:Buon compleanno Strega!=0D=0A=0D=0A  Der  Premio Strega\, der wichtigste Literaturpr
 eis Italiens\, wurde erstmals  im Jahr 1947 in Rom verliehen. Stifter des Pr
 eises waren die  Schriftstellerin Maria Bellonci\, ihr Gatte\, der Literaturk
 ritiker  Goffredo\, gemeinsam mit Guido Alberti\, Unternehmer und Leiter der 
  traditionsreichen Firma =E2=80=9ELiquore Strega=E2=80=9C. Der Preis tr=C3
 =A4gt wie kaum eine  andere Preisverleihung als Motor f=C3=BCr die Entwickl
 ung der gegenw=C3=A4rtigen  Literatur in Italien. Der Gewinner des Preises 
 wird aus einer gro=C3=9Fen  Jury\, welcher auch das Italienische Kulturinsti
 tut in Stuttgart  angeh=C3=B6rt\, auserkoren.  =0D=0A  =0D=0A  Inzwischen Tradition:
  Der Leiter des Italienischen Kulturinstituts in Stuttgart\,     Giuseppe Re
 stuccia    \, stellt gemeinsam mit     Aldo Venturelli    die diesj=C3=A4hri
 gen zw=C3=B6lf Finalisten vor.    =0D=0A =20
URL:https://xkale.karlsruhe.de/db/termine/literatur/der_literaturpreis_premio_strega2026n
CLASS:PUBLIC
DTSTART:20260609T180000
DTSTAMP:20251222T112515
CATEGORIES:Literatur, Vorträge
ATTACH:https://xkale.karlsruhe.de/db/termine/literatur/der_literaturpreis_premio_strega2026n/file/icon_DIG_Signet-CMYK.jpg
END:VEVENT

END:VCALENDAR
