BEGIN:VCALENDAR
VERSION:2.0
CALSCALE:GREGORIAN
PRODID:https://xkale.karlsruhe.de/db/termine/
METHOD:PUBLISH
BEGIN:VEVENT
UID:577471
ORGANIZER;CN=Deutsch-Italienische Gesellschaft e.V. Karlsruhe:MAILTO:pronto@dig-Karlsruhe.eu
LOCATION:Centro = Schul- und Kulturzentrum der Deutsch-Italienischen Gesellschaft e.V. Karlsruhe
SUMMARY:Die Avantgarde ist Rausch
DESCRIPTION;ENCODING=QUOTED-PRINTABLE:Die Abenteuer des Futurismus von Filippo Tommaso Marinetti bis Mario Schifa
 no=0D=0A=0D=0A  Konzipiert  als Hommage zum 150. Geburtstag von Marinetti\, dem Verf
 asser des  Futuristischen Manifests im Jahre 1909\, zeichnet der Vortrag von
      Stefano Agresti    (Kunsthalle  Mannheim) die futuristischen Bewegunge
 n des 20. Jahrhunderts nach.  Ausgangspunkt dieser Erz=C3=A4hlung sind die 
 ebenfalls im Schauwerk in  Sindelfingen gezeigten Gem=C3=A4lde von Mario Sc
 hifano aus den 1960er Jahren\,  die die Vitalit=C3=A4t des Futurismus =C3=BC
 ber die Jahrzehnte hinweg offenbaren.  Der Vortrag bietet auch die Gelegenh
 eit\, futuristische Meisterwerke der  deutschen =C3=B6ffentlichen Sammlung k
 ennenzulernen. Der Vortragende ist  kuratorischer Assistent in der Kunsthal
 le in Mannheim\, hat in Berlin und  Rom\, wo er promoviert\, studiert.  =0D=0A  =0D=0A
      Der Eintritt ist frei - Spenden sind sehr willkommen!   =20
URL:https://xkale.karlsruhe.de/db/termine/literatur/die_avantgarde_ist_rausch
CLASS:PUBLIC
DTSTART:20260710T180000
DTSTAMP:20251222T112516
CATEGORIES:Literatur, Vorträge
ATTACH:https://xkale.karlsruhe.de/db/termine/literatur/die_avantgarde_ist_rausch/file/icon_DIG_Signet-CMYK.jpg
END:VEVENT

END:VCALENDAR
