BEGIN:VCALENDAR
VERSION:2.0
CALSCALE:GREGORIAN
PRODID:https://xkale.karlsruhe.de/db/termine/
METHOD:PUBLISH
BEGIN:VEVENT
UID:575224
ORGANIZER;CN=Die Orgelfabrik Kultur in Durlach e.V:MAILTO:info@orgelfabrik-verein.de
LOCATION:OrgelFabrikSalon
SUMMARY:DURLACHER TRAVELSLAM
DESCRIPTION;ENCODING=QUOTED-PRINTABLE:Der Urlaub ist vorbei und die Fotos verschwinden im Album oder Smartphone? 
 Nicht bei uns!=0D=0A=0D=0A    Zeigen Sie Ihre Urlaubsbilder auf der gro=C3=9Fen Lei
 nwand beim Durlacher TravelSlam! Egal wo Sie waren\, ob Shanghai\, Spanien od
 er Schwarzwald\, egal ob Outdoor\, All-Inclusive oder Familienausflug =E2=80
 =93 die Mischung macht=E2=80=99s.        Suchen Sie Ihre 30 besten Bilder a
 us\, die wir dann je 10 Sekunden zeigen: Das sind f=C3=BCnf Minuten\, in dene
 n Sie Ihre Geschichte erz=C3=A4hlen\, Texte lesen oder Musik machen k=C3=B6n
 nen =E2=80=93 SLAM! =E2=80=93 und schon kommt der N=C3=A4chste.        Schl
 ag auf Schlag jetten wir so rund um die Welt auf einer bunten\, chaotischen 
 Bilderreise\, die umso mehr Spa=C3=9F macht\, je mehr mitmachen.       Also n
 icht nur als Besucher zum Durlacher Travel Slam kommen\, sondern gleich unte
 r          travelslam@orgelfabrik-verein.de          anmelden!             
  Eintritt frei =E2=80=93 Spenden willkommen          =0D=0A =20
URL:https://xkale.karlsruhe.de/db/termine/literatur/durlacher_travelslam-1
CLASS:PUBLIC
DTSTART:20251113T193000
DTEND:
DTSTAMP:20251013T103912
CATEGORIES:Literatur, Vorträge
ATTACH:https://xkale.karlsruhe.de/db/termine/literatur/durlacher_travelslam-1/file/icon_Travelslam_04-1-226x300@privat.jpg
END:VEVENT

END:VCALENDAR
