BEGIN:VCALENDAR
VERSION:2.0
CALSCALE:GREGORIAN
PRODID:https://xkale.karlsruhe.de/db/termine/
METHOD:PUBLISH
BEGIN:VEVENT
UID:579745
ORGANIZER;CN=Badische Landesbibliothek:MAILTO:service@blb-karlsruhe.de
LOCATION:Badische Landesbibliothek
SUMMARY:„Ein Bollwerk der Demokratie und der Republik“ – Die Wahlen in Baden 1918 bis 1933
DESCRIPTION;ENCODING=QUOTED-PRINTABLE:Mit Prof. Dr. Bernd Braun (Stiftung Reichspr=C3=A4sident-Friedrich-Ebert-Ge
 denkst=C3=A4tte)=0D=0A=0D=0A  In der Weimar-Geschichtsschreibung hat sich die Defin
 ition von Preu=C3=9Fen als dem =E2=80=9EBollwerk der Demokratie=E2=80=9C du
 rchgesetzt\, aber eigentlich geb=C3=BChrt dieser Ehrentitel dem Land Baden. 
 Reichspr=C3=A4sident Friedrich Ebert und drei der zw=C3=B6lf Weimarer Reich
 skanzler waren Badener und =C3=BCberzeugte Demokraten. Bei den Wahlen auf d
 er Reichs- und L=C3=A4nderebene war Baden bis 1933 so stabil wie kein ander
 es deutsches Land.    Die Veranstaltungsreihe findet in Kooperation mit der
  Landeszentrale f=C3=BCr politische Bildung Baden-W=C3=BCrttemberg statt.  
   Veranstaltungsort:=C2=A0Vortragssaal der BLB. =20
URL:https://xkale.karlsruhe.de/db/termine/literatur/ein_bollwerk_der_demokratie_und_der
CLASS:PUBLIC
DTSTART:20260624T190000
DTEND:
DTSTAMP:20260303T114127
CATEGORIES:Literatur, Vorträge
ATTACH:https://xkale.karlsruhe.de/db/termine/literatur/ein_bollwerk_der_demokratie_und_der/file/icon_Aussenaufnahme_Eingang_Uli_Deck.jpg
END:VEVENT

END:VCALENDAR
