BEGIN:VCALENDAR
VERSION:2.0
CALSCALE:GREGORIAN
PRODID:https://xkale.karlsruhe.de/db/termine/
METHOD:PUBLISH
BEGIN:VEVENT
UID:577468
ORGANIZER;CN=Deutsch-Italienische Gesellschaft e.V. Karlsruhe:MAILTO:pronto@dig-Karlsruhe.eu
LOCATION:Auf dem Marktplatz
SUMMARY:Europatag
DESCRIPTION;ENCODING=QUOTED-PRINTABLE:Teilnahme der DIG Karlsruhe an den Feierlichkeiten rund um den Europa-Tag=0D=0A
 =0D=0A  Die  Feierlichkeiten rund um den Europa-Tag\, welcher als =E2=80=9EGebur
 tstag=E2=80=9C der  Europ=C3=A4ischen Union gilt\, finden in diesem Jahr im 
 Rahmen des Energie-  und Klimafestivals statt. Wir von der DIG feiern im Ge
 iste Europas mit  und freuen uns wieder dabei zu sein =E2=80=93 mit Sprachs
 pielen\, Infos =C3=BCber die  italienischen Regionen\, die italienische Umwel
 tpolitik\, unseren Kursen  und mit einigen =C3=9Cberraschungen!    Die DIG-K
 arlsruhe nimmt=C2=A0aktiv  am Sprach-Caf=C3=A9\, das die Volkshochschule Kar
 lsruhe zusammen mit der=C2=A0 Stadtbibliothek auch in diesem Jahr organisie
 rt\, teil. Das Sprach-Caf=C3=A9  findet am 9. Mai von 16.00 bis 18.00 Uhr au
 f dem Marktplatz statt. In  unseren Sprachspielen und Informationen werden 
 wir die Aufmerksamkeit  den Themen der Umwelt und der Nachhaltigkeit widmen
 .    Die Veranstaltung der DIG-Karlsruhe erfolgt im Rahmen der Europawochen
  Karlsruhe    =0D=0A =20
URL:https://xkale.karlsruhe.de/db/termine/literatur/europatag
CLASS:PUBLIC
DTSTART:20260509T160000
DTSTAMP:20260408T092930
CATEGORIES:Literatur, Vorträge
ATTACH:https://xkale.karlsruhe.de/db/termine/literatur/europatag/file/icon_DIG_Signet-CMYK.jpg
END:VEVENT

END:VCALENDAR
