BEGIN:VCALENDAR
VERSION:2.0
CALSCALE:GREGORIAN
PRODID:https://xkale.karlsruhe.de/db/termine/
METHOD:PUBLISH
BEGIN:VEVENT
UID:581094
ORGANIZER;CN=Ukrainer in Karlsruhe:MAILTO:
LOCATION:Kinemathek Karlsruhe, Kaiserpassage 6,76133 Karlsruhe
SUMMARY:Filmvorführung – „Der lange Februar“
DESCRIPTION;ENCODING=QUOTED-PRINTABLE:Nach dem Film findet ein Gespr=C3=A4ch mit dem Regisseur statt.=0D=0A=0D=0A  Der 79
 -min=C3=BCtige Film=C2=A0=C2=A0=E2=80=9EDer lange Februar=E2=80=9C=C2=A0=C2
 =A0dokumentiert den russischen =C3=9Cberfall auf die Ukraine am 24. Februar
  2022 und die darauf folgende Besatzung von Butscha. Das Projekt wurde von 
 der Hessischen Filmf=C3=B6rderung gef=C3=B6rdert.  =0D=0A  =0D=0A  Der Film zeigt\, 
 wie die Einwohnerinnen und Einwohner w=C3=A4hrend der Besatzung Hunger\, Dur
 st und K=C3=A4lte =C3=BCberstanden haben. Eine der dokumentierten Geschicht
 en handelt vom Chor der St.-Andrij-Kirche. Russische Soldaten t=C3=B6teten 
 einen S=C3=A4nger sowie seine gesamte Familie und Nachbarn. Der Film erz=C3
 =A4hlt die tragische Geschichte hinter diesen Morden und wie =C3=9Cberleben
 de der Familie heute mit dem Trauma leben.  =0D=0A  =0D=0A  Zudem zeigt der Film di
 e bislang wenig bekannte Geschichte eines ukrainischen Polizisten\, der selb
 st w=C3=A4hrend der russischen Besatzung in Butscha im Dienst blieb. Eine g
 ro=C3=9Fe Bandbreite an Menschen kommt zu Wort und verdeutlicht\, wie unters
 chiedlich mit dem Erlebten umgegangen wird. Einige verdr=C3=A4ngen und woll
 en vergessen\, andere bauen ihre zerst=C3=B6rten H=C3=A4user und L=C3=A4den 
 wieder auf und blicken hoffnungsvoll in die Zukunft.  =0D=0A  =0D=0A  Besonders ein
 dr=C3=BCcklich ist der Zugang durch Privataufnahmen aus Butscha\, die Regiss
 eur Michael Stadnik =C3=BCber fast drei Jahre hinweg recherchiert und gesic
 htet hat. Diese pers=C3=B6nlichen Perspektiven vermitteln den Alltag unter 
 Gewalt\, Angst und Besatzung auf unmittelbare Weise. Darunter befindet sich 
 auch bislang unver=C3=B6ffentlichtes Filmmaterial.  =0D=0A  =0D=0A  Stadnik hat sel
 bst Verwandte in einer Nachbarstadt von Butscha. Seine pers=C3=B6nlichen Ve
 rbindungen erm=C3=B6glichen einen Einblick in die Realit=C3=A4t unter der r
 ussischen Besatzung.  =0D=0A  =0D=0A  Sprachversionen:  =0D=0A  Der Film wird mit deuts
 chen und ukrainischen Untertiteln gezeigt.  =0D=0A  =0D=0A  Trailer & weitere Infor
 mationen:     https://www.langer-februar.de    =0D=0A =20
URL:https://xkale.karlsruhe.de/db/termine/literatur/filmvorfuhrung_der_lange_februar
CLASS:PUBLIC
DTSTART:20260509T193000
DTEND:
DTSTAMP:20260422T121417
CATEGORIES:Literatur, Vorträge
ATTACH:https://xkale.karlsruhe.de/db/termine/literatur/filmvorfuhrung_der_lange_februar/file/icon_DerLangeFebruar Kopie.jpg
END:VEVENT

END:VCALENDAR
