BEGIN:VCALENDAR
VERSION:2.0
CALSCALE:GREGORIAN
PRODID:https://xkale.karlsruhe.de/db/termine/
METHOD:PUBLISH
BEGIN:VEVENT
UID:579727
ORGANIZER;CN=Badische Landesbibliothek:MAILTO:service@blb-karlsruhe.de
LOCATION:Badische Landesbibliothek
SUMMARY:Frauen in ehemaligen Männerberufen –  eine Erfolgsgeschichte?
DESCRIPTION;ENCODING=QUOTED-PRINTABLE:Mit Prof. Dr. Annette Treibel=0D=0A=0D=0A  Noch vor zwei Generationen waren Frauen 
 in =C3=B6ffentlich einflussreichen Berufen selten vertreten. Beispielsweise
  war die Anzahl von Professorinnen verschwindend gering. Oder Pfarrerinnen?
  Vor 1971 gab es in der Badischen Landeskirche =C3=BCberhaupt keine Gemeind
 epfarrerinnen\, denn erst seit dieser Zeit steht die Ordination Frauen offen
 . Heutzutage stellt sich die Situation ganz anders dar. Statistisch gesehen
  betr=C3=A4gt der Anteil von Professorinnen mittlerweile 30 Prozent\, in den
  Pfarr=C3=A4mtern besetzen Frauen inzwischen sogar mehr als die H=C3=A4lfte
  der Stellen.    Welche Erfahrungen machen beteiligte Frauen in diesen Ver
 =C3=A4nderungsprozessen? Wie kommen sie in den Berufen\, die fr=C3=BCher M
 =C3=A4nner vorbehalten waren\, zurecht? Diese Fragen stehen im aktuellen Tal
 k im Mittelpunkt. Exemplarisch geht es dabei um die tiefgreifenden Ver=C3
 =A4nderungen in den Universit=C3=A4ten und in der Evangelischen Kirche.    
 Die Karlsruher Soziologin Annette Treibel gibt einleitend einen =C3=9Cberbl
 ick =C3=BCber die Dynamik der Geschlechterverh=C3=A4ltnisse in der Berufswe
 lt. Talk-Gast ist dieses Mal Gabriele Hug\, Theologin und Pfarrerin an der K
 arlsruher Christuskirche\, die ihre Erfahrungen ins Gespr=C3=A4ch einbringt:
  Unter welchen Bedingungen sind die beiden in den 1990er Jahren in ihre Ber
 ufe gestartet? Wo haben sie Unterst=C3=BCtzung erfahren und auf welche Wide
 rst=C3=A4nde sind sie gesto=C3=9Fen? Wie nehmen sie die Ver=C3=A4nderungen 
 in ihren Berufsfeldern seither wahr?    Im Anschluss wird das Zweiergespr
 =C3=A4ch f=C3=BCr den direkten Austausch mit dem Publikum ge=C3=B6ffnet. Di
 e Diskussion wird von Peter Wilhelm\, Organisationsentwickler und Moderator 
 aus Heidelberg\, geleitet.    Veranstaltungsort: Vortragssaal =20
URL:https://xkale.karlsruhe.de/db/termine/literatur/frauen_in_ehemaligen_mannerberufen_eine
CLASS:PUBLIC
DTSTART:20260505T170000
DTEND:
DTSTAMP:20260303T113905
CATEGORIES:Literatur, Vorträge
ATTACH:https://xkale.karlsruhe.de/db/termine/literatur/frauen_in_ehemaligen_mannerberufen_eine/file/icon_Podiumsdiskussion.jpg
END:VEVENT

END:VCALENDAR
