BEGIN:VCALENDAR
VERSION:2.0
CALSCALE:GREGORIAN
PRODID:https://xkale.karlsruhe.de/db/termine/
METHOD:PUBLISH
BEGIN:VEVENT
UID:581104
ORGANIZER;CN=Bürgermentoren digitale Medien:MAILTO:ka.digital@web.de
LOCATION:Kaiserstraße 47, Kulturküche
SUMMARY:Gemeinsam Digital
DESCRIPTION;ENCODING=QUOTED-PRINTABLE:Offener Beratungsnachmittag der ehrenamtlichen B=C3=BCrgermentor/innen digi
 tale Medien.=0D=0A=0D=0A    Gemeinsam Digital: offener Beratungsnachmittag    =0D=0A  $
 $    Am     19. Mai 2026 von 15 bis 17 Uhr    laden die     B=C3=BCrgerment
 orinnen und B=C3=BCrgermentoren Digitale Medien    gemeinsam mit dem     Pr
 ojekt Zukunftsweltencaf=C3=A9    zu einem offenen Beratungstag in die     K
 ulturk=C3=BCche    ein.    Ob Smartphone\, Tablet oder PC =E2=80=93 wer Frag
 en zu Apps\, digitalen Diensten oder zur sicheren Nutzung seiner Ger=C3=A4te
  hat\, erh=C3=A4lt hier -ehrenamtlich und kostenlos- praxisnahe Unterst=C3
 =BCtzung und verst=C3=A4ndliche Hilfe.    Alle Interessierten sind herzlich
  eingeladen =E2=80=93 die Teilnahme ist kostenfrei und ohne Anmeldung m=C3
 =B6glich.    Weitere Termine: 23.6. | 28.7. | 18.8.    BMDM R.Schwarz    Ve
 ranstalter:=C2=A0Stiftung Kraft-Netz =20
URL:https://xkale.karlsruhe.de/db/termine/literatur/gemeinsam_digital-2
CLASS:PUBLIC
DTSTART:20260519T150000
DTEND:20260519T170000
DTSTAMP:20260422T121253
CATEGORIES:Literatur, Vorträge
ATTACH:https://xkale.karlsruhe.de/db/termine/literatur/gemeinsam_digital-2/file/icon_bmdm KuKü26.jpg
END:VEVENT

END:VCALENDAR
