BEGIN:VCALENDAR
VERSION:2.0
CALSCALE:GREGORIAN
PRODID:https://xkale.karlsruhe.de/db/termine/
METHOD:PUBLISH
BEGIN:VEVENT
UID:577472
ORGANIZER;CN=Deutsch-Italienische Gesellschaft e.V. Karlsruhe:MAILTO:pronto@dig-Karlsruhe.eu
LOCATION:Café RIH
SUMMARY:GERMAFIA
DESCRIPTION;ENCODING=QUOTED-PRINTABLE:Die Mafia in Deutschland=0D=0A=0D=0A    Sandro Mattioli    \, Journalist und SPIEGEL
 -Bestseller-Autor sowie Vorsitzender von mafianeindanke e. V.\, stellt im Ge
 spr=C3=A4ch mit     Alessandro Bellardita    sein neuestes Werk zur Mafia i
 n Deutschland vor\, Titel: GERMAFIA\, 2025  im Westend-Verlag erschienen. Mat
 tioli skizziert in seinem Buch die  wesentlichen Grundrisse sowie die Mache
 nschaften der italienischen  organisierten Kriminalit=C3=A4t in Deutschland
  und versucht =C3=BCber einen  pers=C3=B6nlichen Erfahrungsbericht als Jour
 nalist darzulegen\, welche  Herausforderung die Mafia f=C3=BCr das deutsche 
 Justizsystem und f=C3=BCr die  deutsche Wirtschaft darstellt. Garantiert ei
 n spannender Abend!  =0D=0A  =0D=0A     Der Eintritt ist frei - Spenden sind sehr w
 illkommen!   =20
URL:https://xkale.karlsruhe.de/db/termine/literatur/germafia
CLASS:PUBLIC
DTSTART:20260925T190000
DTSTAMP:20251222T112516
CATEGORIES:Literatur, Vorträge
ATTACH:https://xkale.karlsruhe.de/db/termine/literatur/germafia/file/icon_DIG_Signet-CMYK.jpg
END:VEVENT

END:VCALENDAR
