BEGIN:VCALENDAR
VERSION:2.0
CALSCALE:GREGORIAN
PRODID:https://xkale.karlsruhe.de/db/termine/
METHOD:PUBLISH
BEGIN:VEVENT
UID:579588
ORGANIZER;CN=Badische Landesbibliothek:MAILTO:service@blb-karlsruhe.de
LOCATION:Badische Landesbibliothek
SUMMARY:Hannah Arendt und Rahel Varnhagen
DESCRIPTION;ENCODING=QUOTED-PRINTABLE:In Kooperation mit der Volkshochschule Karlsruhe=0D=0A=0D=0A  Der Schnupperkurs gib
 t Einblicke in Hannah Arendts pers=C3=B6nlichstes Buch =E2=80=9ERahel Varnh
 agen. Die Lebensgeschichte einer deutschen J=C3=BCdin aus der Romantik=E2
 =80=9C.    Diese =C3=BCberaus lebendig geschriebene Studie =C3=BCber die Be
 rliner j=C3=BCdische Salonkultur um 1800 zeichnet die schwierige Situation 
 des gebildeten j=C3=BCdischen B=C3=BCrgertums im aufgekl=C3=A4rten Preu=C3
 =9Fen nach.    Die Spannung zwischen Assimilation und Ausgrenzung arbeitet 
 Arendt eindr=C3=BCcklich heraus. Ein Thema\, aufs Neue wieder aktuell.    Re
 ferentin: Beatrice-Charlotte Wurm    Die Volkshochschule Karlsruhe bietet i
 n der Impulsvortragsreihe =E2=80=9EVHS-Schnupperkurse=E2=80=9C kostenfreie 
 Einblicke in ihr vielf=C3=A4ltiges Programm. Die Schnupperkurse finden in d
 er Lernwerkstatt statt und k=C3=B6nnen bei Interesse direkt =C3=BCber unser
 e Kooperationspartnerin gebucht werden.    Veranstaltungsort: Seminarraum i
 n der Lernwerkstatt =20
URL:https://xkale.karlsruhe.de/db/termine/literatur/hannah_arendt_und_rahel_varnhagen
CLASS:PUBLIC
DTSTART:20260623T180000
DTEND:20260623T184500
DTSTAMP:20260303T095955
CATEGORIES:Literatur, Vorträge
ATTACH:https://xkale.karlsruhe.de/db/termine/literatur/hannah_arendt_und_rahel_varnhagen/file/icon_Key Visual Lernwerkstatt.jpg
END:VEVENT

END:VCALENDAR
