BEGIN:VCALENDAR
VERSION:2.0
CALSCALE:GREGORIAN
PRODID:https://xkale.karlsruhe.de/db/termine/
METHOD:PUBLISH
BEGIN:VEVENT
UID:579726
ORGANIZER;CN=Badische Landesbibliothek:MAILTO:service@blb-karlsruhe.de
LOCATION:Badische Landesbibliothek
SUMMARY:Helmut Engler (1926–2015), ein badischer Jurist zwischen Freiburg, Karlsruhe und Stuttgart
DESCRIPTION;ENCODING=QUOTED-PRINTABLE:Mit Dr. Detlev Fischer\, Karlsruhe=0D=0A=0D=0A  Am 14. April 2026 w=C3=A4re Helmut E
 ngler 100 Jahre alt geworden. Aus Anlass dieses Jahrestages zeichnet der Vo
 rtrag den facettenreichen Lebensweg des langj=C3=A4hrigen baden-w=C3=BCrtte
 mbergischen Ministers f=C3=BCr Wissenschaft und Kunst (1978=E2=80=89=E2=80
 =93=E2=80=891991) nach. Dieser Weg ist gepr=C3=A4gt durch zahlreiche T=C3
 =A4tigkeiten in der Justiz des Landes\, zuletzt als Amtschef des Stuttgarter
  Justizministeriums. Als allseits geachteter Landesminister wurde er treffe
 nd als Gentleman der Politik bezeichnet.    Eine Veranstaltung in Kooperati
 on mit dem Verein Rechtshistorisches Museum e.=E2=80=89V.    Veranstaltungs
 ort: Vortragssaal =20
URL:https://xkale.karlsruhe.de/db/termine/literatur/helmut_engler_19262015_ein_badischer
CLASS:PUBLIC
DTSTART:20260421T190000
DTEND:
DTSTAMP:20260303T110723
CATEGORIES:Literatur, Vorträge
ATTACH:https://xkale.karlsruhe.de/db/termine/literatur/helmut_engler_19262015_ein_badischer/file/icon_Aussenaufnahme_Eingang_Uli_Deck.jpg
END:VEVENT

END:VCALENDAR
