BEGIN:VCALENDAR
VERSION:2.0
CALSCALE:GREGORIAN
PRODID:https://xkale.karlsruhe.de/db/termine/
METHOD:PUBLISH
BEGIN:VEVENT
UID:579587
ORGANIZER;CN=Badische Landesbibliothek:MAILTO:service@blb-karlsruhe.de
LOCATION:Badische Landesbibliothek
SUMMARY:Innovativ präsentieren mit Methoden aus dem Poetry Slam
DESCRIPTION;ENCODING=QUOTED-PRINTABLE:In Kooperation mit dem Spoken-Word-Artisten Moritz Konrad  =E2=80=93 mit An
 meldung=0D=0A=0D=0A  Vor Menschen zu sprechen geh=C3=B6rt zu den am weitesten verbr
 eiteten =C3=84ngsten =E2=80=93 und ist gleichzeitig ein essentieller Soft S
 kill f=C3=BCr Schule\, Studium\, Beruf oder sogar Familienfeiern. Vielen f=C3
 =A4llt es schwer\, Projekte zu pr=C3=A4sentieren oder =C3=BCber die eigene A
 rbeit oder Forschung zu sprechen und sie dabei so zu vermitteln\, dass auch 
 Laien einen Zugang finden. Was macht eigentlich einen guten Vortrag aus? Wi
 e begeistert man ein Publikum f=C3=BCr seine Themen? Und wie schafft man es
 \, vielschichtige Sachverhalte verst=C3=A4ndlich zu verpacken\, ohne dabei di
 e Komplexit=C3=A4t zu vernachl=C3=A4ssigen?    Poetry Slammer und Moderator
  Moritz Konrad sch=C3=B6pft f=C3=BCr diesen vierst=C3=BCndigen Workshop aus
  seiner langj=C3=A4hrigen B=C3=BChnenerfahrung\, um gemeinsam mit den Teilne
 hmenden kreative Pr=C3=A4sentationsstrategien zu erarbeiten.    Anmeldung e
 rforderlich bis zum 5.6.2026    Veranstaltungsort: Seminarraum in der Lernw
 erkstatt =20
URL:https://xkale.karlsruhe.de/db/termine/literatur/innovativ_prasentieren_mit_methoden_aus_dem_poetry_slam-5
CLASS:PUBLIC
DTSTART:20260612T140000
DTEND:20260612T180000
DTSTAMP:20260303T095944
CATEGORIES:Literatur, Vorträge
ATTACH:https://xkale.karlsruhe.de/db/termine/literatur/innovativ_prasentieren_mit_methoden_aus_dem_poetry_slam-5/file/icon_Key Visual Lernwerkstatt.jpg
END:VEVENT

END:VCALENDAR
