BEGIN:VCALENDAR
VERSION:2.0
CALSCALE:GREGORIAN
PRODID:https://xkale.karlsruhe.de/db/termine/
METHOD:PUBLISH
BEGIN:VEVENT
UID:579581
ORGANIZER;CN=Badische Landesbibliothek:MAILTO:service@blb-karlsruhe.de
LOCATION:Badische Landesbibliothek
SUMMARY:KI-Austauschrunde
DESCRIPTION;ENCODING=QUOTED-PRINTABLE:In Kooperation mit der Arbeitsgruppe NextEducation\, DHBW Karlsruhe=0D=0A=0D=0A  Nut
 zen Sie die Gelegenheit\, sich in regelm=C3=A4=C3=9Figen Abst=C3=A4nden mit 
 anderen =C3=BCber das Thema K=C3=BCnstliche Intelligenz auszutauschen. In e
 iner offenen Gespr=C3=A4chsrunde k=C3=B6nnen Fragen\, Bedenken und neue Erke
 nntnisse zum Thema K=C3=BCnstliche Intelligenz diskutiert werden. Die Teach
 ing Library wird gemeinsam mit der Arbeitsgruppe NextEducation der DHBW Kar
 lsruhe den Einstieg in die Diskussion erleichtern.    Veranstaltungsort: Ar
 ena in der Lernwerkstatt =20
URL:https://xkale.karlsruhe.de/db/termine/literatur/ki_austauschrunde-7
CLASS:PUBLIC
DTSTART:20260506T170000
DTEND:20260506T183000
DTSTAMP:20260303T095948
CATEGORIES:Literatur, Vorträge
ATTACH:https://xkale.karlsruhe.de/db/termine/literatur/ki_austauschrunde-7/file/icon_Key Visual Lernwerkstatt.jpg
END:VEVENT

END:VCALENDAR
