BEGIN:VCALENDAR
VERSION:2.0
CALSCALE:GREGORIAN
PRODID:https://xkale.karlsruhe.de/db/termine/
METHOD:PUBLISH
BEGIN:VEVENT
UID:578757
ORGANIZER;CN=Stadtbibliothek Karlsruhe - Stadtteilbibliothek Durlach:MAILTO:bibliothek-durlach@kultur.karlsruhe.de
LOCATION:Stadtbibliothek Karlsruhe - Stadtteilbibliothek Durlach
SUMMARY:KREATIVZEIT: ganz viele Herzen für Mutti -- ENTFÄLLT --
DESCRIPTION;ENCODING=QUOTED-PRINTABLE:Ab 5 Jahren | Kostenfrei\, mit Anmeldung=0D=0A=0D=0A  Wir basteln heute viele bunte 
 Herzen f=C3=BCr unsere Mama.            =0D=0A          Zielgruppe:    ab 5 Jah
 ren     =0D=0A   =0D=0A   Anmeldung:    bibliothek-durlach@kultur.karlsruhe.de     
 =0D=0A   =0D=0A   Eintritt:    kostenfrei     =0D=0A   =0D=0A   Ort:    Stadtteilbibliothek
  Durlach  =0D=0A    =0D=0A         =0D=0A      Illustration: AdobeStock - PixelShot    
        =20
URL:https://xkale.karlsruhe.de/db/termine/literatur/kreativzeit_ganz_viele_herzen_fur_mutti_entfallt_
CLASS:PUBLIC
DTSTART:20260423T160000
DTEND:20260423T170000
DTSTAMP:20260302T070930
CATEGORIES:Literatur, Vorträge
ATTACH:https://xkale.karlsruhe.de/db/termine/literatur/kreativzeit_ganz_viele_herzen_fur_mutti_entfallt_/file/icon_2026.04.23_Herzen_AdobeStock_Pixel-Shot.jpg
END:VEVENT

END:VCALENDAR
