BEGIN:VCALENDAR
VERSION:2.0
CALSCALE:GREGORIAN
PRODID:https://xkale.karlsruhe.de/db/termine/
METHOD:PUBLISH
BEGIN:VEVENT
UID:579728
ORGANIZER;CN=Badische Landesbibliothek:MAILTO:service@blb-karlsruhe.de
LOCATION:Badische Landesbibliothek
SUMMARY:„Mit schwarzen Segeln segelt mein Schiff …“ Verfolgt und vergessen: Lieder von Ruth Poritzky, Richard Fuchs und Max Kowalski
DESCRIPTION;ENCODING=QUOTED-PRINTABLE:Mit Claus Temps\, Gesang\, und Heike Bleckmann\, Klavier.=0D=0A=0D=0A  Das Programm ni
 mmt drei Musikerpers=C3=B6nlichkeiten in den Blick\, die bis 1933 hohes k=C3
 =BCnstlerisches Ansehen genossen\, durch die nationalsozialistischen Ma=C3
 =9Fnahmen gegen Juden jedoch v=C3=B6llig in Vergessenheit gerieten. Ruth Po
 ritzky\, geboren 1902\, lebte seit 1915 in Karlsruhe. Die S=C3=A4ngerin und K
 omponistin wurde am 22. Oktober 1940 ins s=C3=BCdfranz=C3=B6sische Lager Gu
 rs deportiert und 1942 in Auschwitz ermordet. Der Karlsruher Richard Fuchs 
 und der Frankfurter Max Kowalski konnten sich 1939 durch Flucht nach Neusee
 land bzw. England retten. Die Lieder der drei verfolgten Komponisten wieder
  zug=C3=A4nglich zu machen und sie dem Vergessen zu entrei=C3=9Fen\, ist das
  Anliegen von Claus Temps (Gesang) und Heike Bleckmann (Klavier).    Verans
 taltungsort: Vortragssaal =20
URL:https://xkale.karlsruhe.de/db/termine/literatur/mit_schwarzen_segeln_segelt_mein_schiff
CLASS:PUBLIC
DTSTART:20260428T190000
DTEND:
DTSTAMP:20260303T110722
CATEGORIES:Literatur, Vorträge
ATTACH:https://xkale.karlsruhe.de/db/termine/literatur/mit_schwarzen_segeln_segelt_mein_schiff/file/icon_Aussenaufnahme_Eingang_Uli_Deck.jpg
END:VEVENT

END:VCALENDAR
