BEGIN:VCALENDAR
VERSION:2.0
CALSCALE:GREGORIAN
PRODID:https://xkale.karlsruhe.de/db/termine/
METHOD:PUBLISH
BEGIN:VEVENT
UID:579729
ORGANIZER;CN=Badische Landesbibliothek:MAILTO:service@blb-karlsruhe.de
LOCATION:Badische Landesbibliothek
SUMMARY:Neue Tendenzen der italienischen Literatur: Der Literaturpreis „Premio Strega 2026“
DESCRIPTION;ENCODING=QUOTED-PRINTABLE:Mit Dott. Giuseppe Restuccia\, Leiter des Italienischen Kulturinstituts Stut
 tgart\, im Gespr=C3=A4ch mit Prof. Aldo Venturelli\,  Deutsch-Italienische Ge
 sellschaft Karlsruhe=0D=0A=0D=0A  Der Premio Strega\, der wichtigste Literaturpreis 
 Italiens\, wurde erstmals im Jahr 1947 in Rom verliehen. Stifter des Preises
  waren die Schriftstellerin Maria Bellonci und ihr Gatte\, der Literaturkrit
 iker Goffredo\, gemeinsam mit Guido Alberti\, Unternehmer und Leiter der trad
 itionsreichen Firma =E2=80=9ELiquore Strega=E2=80=9C.    Der Preis ist wie 
 kaum eine andere Preisverleihung Motor f=C3=BCr die Entwicklung der gegenw
 =C3=A4rtigen Literatur in Italien. Der Gewinner des Preises wird von einer 
 gro=C3=9Fen Jury\, welcher auch das Italienische Kulturinstitut in Stuttgart
  angeh=C3=B6rt\, ausgew=C3=A4hlt. Der Leiter des Instituts in Stuttgart\, Giu
 seppe Restuccia\, stellt gemeinsam mit Aldo Venturelli die diesj=C3=A4hrigen
  f=C3=BCnf Finalisten vor.    Eine Veranstaltung in Kooperation mit der Deu
 tsch-Italienischen Gesellschaft (DIG) Karlsruhe und dem Italienischen Kultu
 rinstitut Stuttgart.    Veranstaltungsort: Vortragssaal =20
URL:https://xkale.karlsruhe.de/db/termine/literatur/neue_tendenzen_der_italienischen_literatur-1
CLASS:PUBLIC
DTSTART:20260609T190000
DTEND:
DTSTAMP:20260303T110854
CATEGORIES:Literatur, Vorträge
ATTACH:https://xkale.karlsruhe.de/db/termine/literatur/neue_tendenzen_der_italienischen_literatur-1/file/icon_Aussenaufnahme_Uli_Deck.jpg
END:VEVENT

END:VCALENDAR
