BEGIN:VCALENDAR
VERSION:2.0
CALSCALE:GREGORIAN
PRODID:https://xkale.karlsruhe.de/db/termine/
METHOD:PUBLISH
BEGIN:VEVENT
UID:579585
ORGANIZER;CN=Badische Landesbibliothek:MAILTO:service@blb-karlsruhe.de
LOCATION:Badische Landesbibliothek
SUMMARY:Prüfungsangst und Resilienz bei Prüfungsstress
DESCRIPTION;ENCODING=QUOTED-PRINTABLE:In Kooperation mit der Volkshochschule Karlsruhe=0D=0A=0D=0A  In dieser Schnupperst
 unde erhalten Sie einen ersten Einblick in das Thema Pr=C3=BCfungsangst und
  den Umgang mit Pr=C3=BCfungsstress. Anhand ausgew=C3=A4hlter Impulse und e
 infacher =C3=9Cbungen lernen Sie Ans=C3=A4tze kennen\, die zu mehr Ruhe und 
 Sicherheit in Pr=C3=BCfungssituationen beitragen k=C3=B6nnen. Der Kurs biet
 et Orientierung und l=C3=A4dt zum Ausprobieren ein.    Referent: Martin L
 =C3=B6ffler-Mang    Die Volkshochschule Karlsruhe bietet in der Impulsvortr
 agsreihe =E2=80=9EVHS-Schnupperkurse=E2=80=9C kostenfreie Einblicke in ihr 
 vielf=C3=A4ltiges Programm. Die Schnupperkurse finden in der Lernwerkstatt 
 statt und k=C3=B6nnen bei Interesse direkt =C3=BCber unsere Kooperationspar
 tnerin gebucht werden.    Veranstaltungsort: Seminarraum in der Lernwerksta
 tt =20
URL:https://xkale.karlsruhe.de/db/termine/literatur/prufungsangst_und_resilienz_bei_prufungsstress
CLASS:PUBLIC
DTSTART:20260526T160000
DTEND:20260526T164500
DTSTAMP:20260303T100001
CATEGORIES:Literatur, Vorträge
ATTACH:https://xkale.karlsruhe.de/db/termine/literatur/prufungsangst_und_resilienz_bei_prufungsstress/file/icon_Key Visual Lernwerkstatt.jpg
END:VEVENT

END:VCALENDAR
