BEGIN:VCALENDAR
VERSION:2.0
CALSCALE:GREGORIAN
PRODID:https://xkale.karlsruhe.de/db/termine/
METHOD:PUBLISH
BEGIN:VEVENT
UID:579586
ORGANIZER;CN=Badische Landesbibliothek:MAILTO:service@blb-karlsruhe.de
LOCATION:Badische Landesbibliothek
SUMMARY:Schneller lesen – leicht gemacht!
DESCRIPTION;ENCODING=QUOTED-PRINTABLE:F=C3=BCr alle Interessierten =E2=80=93 mit Anmeldung=0D=0A=0D=0A  Ob im Studium\, im
  Beruf oder in der Freizeit: Die F=C3=A4higkeit\, Texte schnell lesen und er
 fassen zu k=C3=B6nnen\, spart wertvolle Zeit. Wir zeigen Ihnen\, wie Sie mit 
 einfachen Methoden Ihr Lesetempo erh=C3=B6hen k=C3=B6nnen.    Veranstaltung
 sort: Seminarraum in der Lernwerkstatt =20
URL:https://xkale.karlsruhe.de/db/termine/literatur/schneller_lesen_leicht_gemacht-4
CLASS:PUBLIC
DTSTART:20260609T170000
DTEND:20260609T180000
DTSTAMP:20260303T100000
CATEGORIES:Literatur, Vorträge
ATTACH:https://xkale.karlsruhe.de/db/termine/literatur/schneller_lesen_leicht_gemacht-4/file/icon_Key Visual Lernwerkstatt.jpg
END:VEVENT

END:VCALENDAR
