BEGIN:VCALENDAR
VERSION:2.0
CALSCALE:GREGORIAN
PRODID:https://xkale.karlsruhe.de/db/termine/
METHOD:PUBLISH
BEGIN:VEVENT
UID:579736
ORGANIZER;CN=Badische Landesbibliothek:MAILTO:service@blb-karlsruhe.de
LOCATION:Badische Landesbibliothek
SUMMARY:Silent Book Club ® – zwanglos lesen
DESCRIPTION;ENCODING=QUOTED-PRINTABLE:Eine Stunde still miteinander und jeder f=C3=BCr sich lesen\, die Lekt=C3=BC
 re wird selbst mitgebracht.=0D=0A=0D=0A  Im Alltag f=C3=A4llt es uns oft schwer\, un
 s ganz einem Buch zu widmen. Der Silent Book Club =C2=AE macht es m=C3=B6gl
 ich: Am letzten Donnerstag im Monat treffen wir uns im Caf=C3=A9 der BLB\, u
 m eine Stunde miteinander zu lesen =E2=80=93 ganz in Ruhe\, jeder f=C3=BCr s
 ich\, ohne Zwang. Dabei ist es jedem selbst =C3=BCberlassen\, was er liest\, o
 b er das Buch selbst mitbringt oder in der Bibliothek ausleiht. Am Ende bes
 teht die M=C3=B6glichkeit\, =C3=BCber das Gelesene zu sprechen. Wer keine Lu
 st zum Reden hat\, liest einfach weiter.=C2=A0Die Idee stammt aus den USA un
 d ist=C2=A0auch in Deutschland erfolgreich.    Treffpunkt: Caf=C3=A9 der BL
 B =20
URL:https://xkale.karlsruhe.de/db/termine/literatur/silent_book_club_zwanglos_lesen-7
CLASS:PUBLIC
DTSTART:20260625T173000
DTEND:20260625T190000
DTSTAMP:20260303T113912
CATEGORIES:Literatur, Vorträge
ATTACH:https://xkale.karlsruhe.de/db/termine/literatur/silent_book_club_zwanglos_lesen-7/file/icon_P1029213__Fokus_auf_Lesen_web_Stadtkalender.jpg
END:VEVENT

END:VCALENDAR
