BEGIN:VCALENDAR
VERSION:2.0
CALSCALE:GREGORIAN
PRODID:https://xkale.karlsruhe.de/db/termine/
METHOD:PUBLISH
BEGIN:VEVENT
UID:579582
ORGANIZER;CN=Badische Landesbibliothek:MAILTO:service@blb-karlsruhe.de
LOCATION:Badische Landesbibliothek
SUMMARY:Sprache verbindet Menschen – Swahili als Brücke zwischen Kulturen
DESCRIPTION;ENCODING=QUOTED-PRINTABLE:In Kooperation mit der Volkshochschule Karlsruhe=0D=0A=0D=0A  Sprache ist mehr als 
 Kommunikation\; sie verbindet Menschen =C3=BCber Grenzen hinweg. Sie erm=C3
 =B6glicht Verst=C3=A4ndnis\, Respekt und echte Begegnungen zwischen Kulturen
 .    Als Sprachbotschafter und Lehrer der Swahili-Sprache in Europa erlebe 
 ich t=C3=A4glich diese verbindende Kraft.    Swahili steht f=C3=BCr Offenhe
 it\, Gemeinschaft und gegenseitige Wertsch=C3=A4tzung. Wer Swahili lernt\, le
 rnt nicht nur Worte\, sondern auch Kultur\, Geschichte und Denkweisen kennen.
     Sprache hilft\, Vorurteile abzubauen und neue Perspektiven zu =C3=B6ffne
 n. Gerade in einer vielf=C3=A4ltigen Gesellschaft ist Sprache ein wichtiger
  Schl=C3=BCssel f=C3=BCr Zusammenhalt. Sie schafft Dialog statt Trennung. S
 wahili baut Br=C3=BCcken zwischen Afrika und Europa. Sprache verbindet Mens
 chen\, weil sie Verst=C3=A4ndnis und N=C3=A4he schafft.    Referentin: Emaku
 lata-Upendo Heckele    Die Volkshochschule Karlsruhe bietet in der Impulsvo
 rtragsreihe =E2=80=9EVHS-Schnupperkurse=E2=80=9C kostenfreie Einblicke in i
 hr vielf=C3=A4ltiges Programm. Die Schnupperkurse finden in der Lernwerksta
 tt statt und k=C3=B6nnen bei Interesse direkt =C3=BCber unsere Kooperations
 partnerin gebucht werden.    Veranstaltungsort: Seminarraum in der Lernwerk
 statt =20
URL:https://xkale.karlsruhe.de/db/termine/literatur/sprache_verbindet_menschen_swahili_als
CLASS:PUBLIC
DTSTART:20260516T110000
DTEND:20260516T114500
DTSTAMP:20260303T095957
CATEGORIES:Literatur, Vorträge
ATTACH:https://xkale.karlsruhe.de/db/termine/literatur/sprache_verbindet_menschen_swahili_als/file/icon_Key Visual Lernwerkstatt.jpg
END:VEVENT

END:VCALENDAR
