BEGIN:VCALENDAR
VERSION:2.0
CALSCALE:GREGORIAN
PRODID:https://xkale.karlsruhe.de/db/termine/
METHOD:PUBLISH
BEGIN:VEVENT
UID:578332
ORGANIZER;CN=Psychologische Beratungsstellen Ost und West:MAILTO:pbs@sjb.karlsruhe.de
LOCATION:Psychologische Beratungsstellen Ost und West, Saal im Erdgeschoss
SUMMARY:Starke Gefühle im Erziehungsalltag
DESCRIPTION;ENCODING=QUOTED-PRINTABLE:Zwei zusammenh=C3=A4ngende Workshops mit Informationen und Austausch=0D=0A=0D=0A  S
 tarke Gef=C3=BChle von Kindern in Erziehungssituationen sind oft sehr herau
 sfordernd =E2=80=93 ebenso=C2=A0 wie die Gef=C3=BChle der Eltern selbst\, di
 e dabei ausgel=C3=B6st werden.    In den beiden Workshops erhalten die Elte
 rn Informationen zur Entwicklung kindlicher Emotionen und =C3=BCber eine hi
 lfreiche Haltung=C2=A0 im Umgang damit. =20
URL:https://xkale.karlsruhe.de/db/termine/literatur/starke_gefuhle_im_erziehungsalltag
CLASS:PUBLIC
DTSTART:20260414T173000
DTEND:20260428T193000
DTSTAMP:20260130T081338
CATEGORIES:Literatur, Vorträge
ATTACH:https://xkale.karlsruhe.de/db/termine/567535/file/icon
END:VEVENT

END:VCALENDAR
