BEGIN:VCALENDAR
VERSION:2.0
CALSCALE:GREGORIAN
PRODID:https://xkale.karlsruhe.de/db/termine/
METHOD:PUBLISH
BEGIN:VEVENT
UID:579217
ORGANIZER;CN=Swim Kids Karlsruhe e.V.:MAILTO:info@swimkids-karlsruhe.de
LOCATION:Begegnungsstätte Karlsruhe-Grötzingen
SUMMARY:Vortrag: Wasserhelden entstehen nicht zufällig
DESCRIPTION;ENCODING=QUOTED-PRINTABLE:Von der Wassergew=C3=B6hnung zum sicheren Schwimmen - wie Ihr Eure Kinder b
 estm=C3=B6glich unterst=C3=BCtzen k=C3=B6nnt=0D=0A=0D=0A  Bei diesem Vortrag in loc
 kerer Atmosph=C3=A4re m=C3=B6chten wir Euch in Theorie und mit vielen prakt
 ischen Tipps n=C3=A4herbringen\, wie Ihr Eure Kinder von klein auf dabei unt
 erst=C3=BCtzen k=C3=B6nnt\, sichere und begeisterte Schwimmer zu werden. Den
 n je =C3=B6fter Ihr mit den Kindern ins Schwimmbad geht\, geeignete Hilfs- u
 nd Spielmittel einsetzt und den Kindern den Spa=C3=9F am Wasser vermittelt\,
  desto nachhaltiger wird die Schwimmausbildung.  =0D=0A  =0D=0A  Wir besprechen auc
 h das Thema sicheres Schwimmen\, was es bedeutet und wie es gezielt trainier
 t werden kann. Der Vortrag ist kostenlos. Damit wir planen k=C3=B6nnen und 
 da die Anzahl der Teilnehmer begrenzt ist\, bitten wir um Anmeldung (Anmelde
 schluss: Sonntag\, der 19.4.2026) unter www.swimkids-karlsruhe.de/wasserheld
 en.  =0D=0A  =0D=0A  Wir freuen und aus Euch! =20
URL:https://xkale.karlsruhe.de/db/termine/literatur/vortrag_wasserhelden_entstehen_nicht_zufallig
CLASS:PUBLIC
DTSTART:20260421T183000
DTEND:20260421T200000
DTSTAMP:20260330T115331
CATEGORIES:Literatur, Vorträge
ATTACH:https://xkale.karlsruhe.de/db/termine/literatur/vortrag_wasserhelden_entstehen_nicht_zufallig/file/icon_Wasserhelden.jpg
END:VEVENT

END:VCALENDAR
