BEGIN:VCALENDAR
VERSION:2.0
CALSCALE:GREGORIAN
PRODID:https://xkale.karlsruhe.de/db/termine/
METHOD:PUBLISH
BEGIN:VEVENT
UID:579741
ORGANIZER;CN=Badische Landesbibliothek:MAILTO:service@blb-karlsruhe.de
LOCATION:Badische Landesbibliothek
SUMMARY:Wahlen gestern und heute – Parlamentarismus in Baden
DESCRIPTION;ENCODING=QUOTED-PRINTABLE:Mit Dr. Michael Fischer=0D=0A=0D=0A  Zu Beginn dieses Jahres standen die Landtagswa
 hlen im Mittelpunkt des =C3=B6ffentlichen Interesses =E2=80=93 und k=C3=B6n
 nen gerade hier in Baden auf eine lange und bedeutsame Geschichte zur=C3=BC
 ckblicken. Dr. Michael Fischer\, Fachreferent f=C3=BCr Politik\, begleitet Si
 e auf eine einst=C3=BCndige Entdeckungstour durch die Badische Landesbiblio
 thek\, die ganz der Entwicklung der Demokratie in Baden gewidmet ist. Denn h
 ier sind nicht nur die Protokolle des Badischen Landtags zu finden\, sondern
  auch historische Zeitungen aus der Zeit des Gro=C3=9Fherzogtums\, der Repub
 lik Baden und der Nachkriegsjahre sowie zentrale Werke zur Geschichte des b
 adischen Parlamentarismus. Die F=C3=BChrung macht Demokratiegeschichte erle
 bbar =E2=80=93 von den Anf=C3=A4ngen bis in die Gegenwart.    Begrenzte Tei
 lnehmerzahl.  =0D=0A  Nur mit vorheriger Anmeldung an kultur@blb-karlsruhe.de. 
    Treffpunkt: Foyer der BLB. =20
URL:https://xkale.karlsruhe.de/db/termine/literatur/wahlen_gestern_und_heute_parlamentarismus_in_baden-1
CLASS:PUBLIC
DTSTART:20260630T170000
DTEND:
DTSTAMP:20260303T114000
CATEGORIES:Literatur, Vorträge
ATTACH:https://xkale.karlsruhe.de/db/termine/literatur/wahlen_gestern_und_heute_parlamentarismus_in_baden-1/file/icon_Aussenaufnahme_Eingang_Uli_Deck.jpg
END:VEVENT

END:VCALENDAR
