BEGIN:VCALENDAR
VERSION:2.0
CALSCALE:GREGORIAN
PRODID:https://xkale.karlsruhe.de/db/termine/
METHOD:PUBLISH
BEGIN:VEVENT
UID:579744
ORGANIZER;CN=Badische Landesbibliothek:MAILTO:service@blb-karlsruhe.de
LOCATION:Badische Landesbibliothek
SUMMARY:Wahlen und Wahlkämpfe in Baden vom Vormärz bis zum Ersten Weltkrieg – Überraschendes, Skandalöses und Alltägliches aus 100 Jahren badischer Geschichte
DESCRIPTION;ENCODING=QUOTED-PRINTABLE:Mit Prof. Dr. Hans-Peter Becht (Universit=C3=A4t Stuttgart)=0D=0A=0D=0A  Der Refere
 nt\, einer der besten Kenner der politischen Geschichte Badens im 19. und fr
 =C3=BChen 20. Jahrhundert\, beleuchtet die Geschichte der badischen Wahlen. 
 Dabei geht es um Wahlkampfstile\, Wahlkampforganisation und Wahlergebnisse\, 
 aber auch um die Ausw=C3=BCchse\, etwa wenn Messer zum Einsatz kamen oder po
 litische Gegner bei winterlichen Temperaturen in einem Brunnen landeten. Ge
 druckte Beleidigungen des politischen Gegners werden zur Sprache kommen\, eb
 enso ein Spottinserat im Mannheimer Journal vom 23. Februar 1866\, in dem zu
  lesen war: =E2=80=9EHeute Nachmittag trifft eine Partie Schwarzwildbret zu
 m Aushauen ein.=E2=80=9C    Die Veranstaltungsreihe findet in Kooperation m
 it der Landes=02zentrale f=C3=BCr politische Bildung Baden-W=C3=BCrttemberg
  statt.    Veranstaltungsort:=C2=A0Vortragssaal der BLB. =20
URL:https://xkale.karlsruhe.de/db/termine/literatur/wahlen_und_wahlkampfe_in_baden_vom_vormarz
CLASS:PUBLIC
DTSTART:20260528T190000
DTEND:
DTSTAMP:20260303T114204
CATEGORIES:Literatur, Vorträge
ATTACH:https://xkale.karlsruhe.de/db/termine/literatur/wahlen_und_wahlkampfe_in_baden_vom_vormarz/file/icon_Aussenaufnahme_Eingang_Uli_Deck.jpg
END:VEVENT

END:VCALENDAR
