BEGIN:VCALENDAR
VERSION:2.0
CALSCALE:GREGORIAN
PRODID:https://xkale.karlsruhe.de/db/termine/
METHOD:PUBLISH
BEGIN:VEVENT
UID:579583
ORGANIZER;CN=Badische Landesbibliothek:MAILTO:service@blb-karlsruhe.de
LOCATION:Badische Landesbibliothek
SUMMARY:Wissenschaftliche Texte – lesen, verstehen und auswerten
DESCRIPTION;ENCODING=QUOTED-PRINTABLE:F=C3=BCr Studierende der Geistes- und Sozialwissenschaften =E2=80=93 mit An
 meldung=0D=0A=0D=0A  Das Erstellen jeder Studien- oder Forschungsarbeit basiert auf
  der F=C3=A4higkeit zum Verstehen und Verarbeiten wissenschaftlicher Texte.
  In dieser Veranstaltung lernen Sie die SQ4R-Methode zur effektiven Textera
 rbeitung kennen.    Anmeldung erforderlich bis zum 18.5.2026    Veranstaltu
 ngsort: Seminarraum in der Lernwerkstatt =20
URL:https://xkale.karlsruhe.de/db/termine/literatur/wissenschaftliche_texte_lesen_verstehen_und_auswerten-2
CLASS:PUBLIC
DTSTART:20260520T170000
DTEND:20260520T180000
DTSTAMP:20260303T095939
CATEGORIES:Literatur, Vorträge
ATTACH:https://xkale.karlsruhe.de/db/termine/literatur/wissenschaftliche_texte_lesen_verstehen_und_auswerten-2/file/icon_Key Visual Lernwerkstatt.jpg
END:VEVENT

END:VCALENDAR
