BEGIN:VCALENDAR
VERSION:2.0
CALSCALE:GREGORIAN
PRODID:https://xkale.karlsruhe.de/db/termine/
METHOD:PUBLISH
BEGIN:VEVENT
UID:579710
ORGANIZER;CN=Stadtbibliothek Karlsruhe - Stadtteilbibliothek Durlach:MAILTO:bibliothek-durlach@kultur.karlsruhe.de
LOCATION:Stadtbibliothek Karlsruhe - Stadtteilbibliothek Durlach
SUMMARY:WORKSHOP: Comics zeichnen mit dem KIT Klimamonster
DESCRIPTION;ENCODING=QUOTED-PRINTABLE:Kostenfrei\, mit Anmeldung | ab 8 Jahren=0D=0A=0D=0A  Kommt vorbei und zeichnet geme
 insam mit dem Klimamonster euren ganz eigenen Comic.    In Kooperation mit 
 dem KIT Klimamonster.    =0D=0A      Zielgruppe    : ab 8 Jahren      Anmeldung
 :    bibliothek-durlach@kultur.karlsruhe.de      Eintritt:    kostenfrei   
    Ort:    Stadtteilbibliothek Durlach    =0D=0A    =0D=0A    Bilder: Franziska Poi
 ke =20
URL:https://xkale.karlsruhe.de/db/termine/literatur/workshop_comics_zeichnen_mit_dem_kit_klimamonster
CLASS:PUBLIC
DTSTART:20260505T160000
DTEND:20260505T170000
DTSTAMP:20260416T112823
CATEGORIES:Literatur, Vorträge
ATTACH:https://xkale.karlsruhe.de/db/termine/literatur/workshop_comics_zeichnen_mit_dem_kit_klimamonster/file/icon_Kit-Kids.jpg
END:VEVENT

END:VCALENDAR
