BEGIN:VCALENDAR
VERSION:2.0
CALSCALE:GREGORIAN
PRODID:https://xkale.karlsruhe.de/db/termine/
METHOD:PUBLISH
BEGIN:VEVENT
UID:580205
ORGANIZER;CN=Hochschule für Musik :MAILTO:pressebuero@hfm-karlsruhe.de
LOCATION:Hochschule für Musik Karlsruhe, CampusOne, Wolfgang-Rihm-Forum
SUMMARY:30 Jahre Kulturfonds Baden e. V
DESCRIPTION;ENCODING=QUOTED-PRINTABLE:Festakt=0D=0A=0D=0A  =0D=0A  Tickets: 15 =E2=82=AC / 10 =E2=82=AC (erm)    Der Vorverka
 uf wird am 15. M=C3=A4rz freigeschaltet =20
URL:https://xkale.karlsruhe.de/db/termine/musik/30_jahre_kulturfonds_baden_e_v
CLASS:PUBLIC
DTSTART:20260618T180000
DTEND:
DTSTAMP:20260401T175554
CATEGORIES:Musik
ATTACH:https://xkale.karlsruhe.de/db/termine/musik/30_jahre_kulturfonds_baden_e_v/file/icon_kulturfonds_2026_copy.jpg
END:VEVENT

END:VCALENDAR
