BEGIN:VCALENDAR
VERSION:2.0
CALSCALE:GREGORIAN
PRODID:https://xkale.karlsruhe.de/db/termine/
METHOD:PUBLISH
BEGIN:VEVENT
UID:579961
ORGANIZER;CN=Hochschule für Musik :MAILTO:pressebuero@hfm-karlsruhe.de
LOCATION:Hochschule für Musik, Velte-Saal
SUMMARY:Abschlusskonzert der Meisterklasse Ralf Gothóni
DESCRIPTION;ENCODING=QUOTED-PRINTABLE:Konzert=0D=0A=0D=0A  Antonin Dvorak (1841-1904)    "Dumky" Klaviertrio Nr. 4 e-Moll
  op. 90 f=C3=BCr Violine und Violoncello und Klavier    sowie weitere Werke
       Ralf Goth=C3=B3ni und Studierende\, die an der Meisterklasse Ralf Goth
 =C3=B3ni teilgenommen haben        =0D=0A    Eintritt frei     =0D=0A   =0D=0A   =20
URL:https://xkale.karlsruhe.de/db/termine/musik/abschlusskonzert_der_meisterklasse_ralf_gothoni
CLASS:PUBLIC
DTSTART:20260530T160000
DTEND:
DTSTAMP:20260401T175554
CATEGORIES:Musik
ATTACH:https://xkale.karlsruhe.de/db/termine/musik/abschlusskonzert_der_meisterklasse_ralf_gothoni/file/icon_gothoni_copy.jpg
END:VEVENT

END:VCALENDAR
