BEGIN:VCALENDAR
VERSION:2.0
CALSCALE:GREGORIAN
PRODID:https://xkale.karlsruhe.de/db/termine/
METHOD:PUBLISH
BEGIN:VEVENT
UID:579959
ORGANIZER;CN=Hochschule für Musik :MAILTO:pressebuero@hfm-karlsruhe.de
LOCATION:Hochschule für Musik Karlsruhe, CampusOne, Wolfgang-Rihm-Forum
SUMMARY:Ausgezeichnet
DESCRIPTION;ENCODING=QUOTED-PRINTABLE:Portr=C3=A4tkonzert Masaya Kamei=0D=0A=0D=0A  Ein Abend f=C3=BCr Entdeckungen: Masa
 ya Kamei\, Preistr=C3=A4ger beim international h=C3=B6chstrangigen Queen-Eli
 sabeth-Wettbewerb 2025\, z=C3=A4hlt zu den aufregendsten Pianisten seiner Ge
 neration.  =0D=0A  Die Hochschule feiert diesen Erfolg mit einem Portr=C3=A4tko
 nzert und l=C3=A4dt dazu ein\, diesen verhei=C3=9Fungsvollen Musiker am Begi
 nn einer internationalen Laufbahn zu erleben. Auf dem Programm stehen Werke
  von Schumann\, Liszt\, Ravel und Hosokawa.  =0D=0A  Im Anschluss laden wir Sie z
 u einem Imbiss und zu Gespr=C3=A4chen mit dem K=C3=BCnstler ein.  =0D=0A  Ticke
 ts: 15 =E2=82=AC / 10 =E2=82=AC (erm)    Der Vorverkauf wird am 15. M=C3=A4
 rz freigeschaltet. =20
URL:https://xkale.karlsruhe.de/db/termine/musik/ausgezeichnet
CLASS:PUBLIC
DTSTART:20260529T193000
DTEND:
DTSTAMP:20260401T175554
CATEGORIES:Musik
ATTACH:https://xkale.karlsruhe.de/db/termine/musik/ausgezeichnet/file/icon_masaya_kamei_copy_ryuya_amao.jpg
END:VEVENT

END:VCALENDAR
