BEGIN:VCALENDAR
VERSION:2.0
CALSCALE:GREGORIAN
PRODID:https://xkale.karlsruhe.de/db/termine/
METHOD:PUBLISH
BEGIN:VEVENT
UID:578328
ORGANIZER;CN=Musik an der Christuskirche:MAILTO:kantorat@christuskirche-musik.de
LOCATION:Christuskirche Karlsruhe
SUMMARY:Bläserkreiskonzert
DESCRIPTION;ENCODING=QUOTED-PRINTABLE:mit dem Bl=C3=A4serkreis an der Christuskirche Karlsruhe=0D=0A=0D=0A  Bl=C3=A4serkr
 eis an der Christuskirche Karlsruhe\, Veranstalter    Joachim Osswald\, Leitu
 ng =20
URL:https://xkale.karlsruhe.de/db/termine/musik/blaserkreiskonzert-4
CLASS:PUBLIC
DTSTART:20260614T180000
DTEND:
DTSTAMP:20260127T085426
CATEGORIES:Musik
ATTACH:https://xkale.karlsruhe.de/db/termine/musik/blaserkreiskonzert-4/file/icon_kategorie_blaeserkreis.jpeg.jpg
END:VEVENT

END:VCALENDAR
