BEGIN:VCALENDAR
VERSION:2.0
CALSCALE:GREGORIAN
PRODID:https://xkale.karlsruhe.de/db/termine/
METHOD:PUBLISH
BEGIN:VEVENT
UID:578346
ORGANIZER;CN=Musik an der Christuskirche:MAILTO:kantorat@christuskirche-musik.de
LOCATION:Christuskirche Karlsruhe
SUMMARY:Bläserkreiskonzert - Adventskonzert zum Mitsingen
DESCRIPTION;ENCODING=QUOTED-PRINTABLE:mit dem Bl=C3=A4serkreis an der Christuskirche Karlsruhe=0D=0A=0D=0A  Bl=C3=A4serkr
 eis an der Christuskirche Karlsruhe    Joachim Osswald\, Leitung =20
URL:https://xkale.karlsruhe.de/db/termine/musik/blaserkreiskonzert_adventskonzert_zum_mitsingen
CLASS:PUBLIC
DTSTART:20261205T180000
DTEND:
DTSTAMP:20260127T090529
CATEGORIES:Musik
ATTACH:https://xkale.karlsruhe.de/db/termine/musik/blaserkreiskonzert_adventskonzert_zum_mitsingen/file/icon_kategorie_blaeserkreis.jpeg.jpg
END:VEVENT

END:VCALENDAR
