BEGIN:VCALENDAR
VERSION:2.0
CALSCALE:GREGORIAN
PRODID:https://xkale.karlsruhe.de/db/termine/
METHOD:PUBLISH
BEGIN:VEVENT
UID:581092
ORGANIZER;CN=KlangKunst in der Hemingway Lounge e. V.:MAILTO:presse@hemingwaylounge.de
LOCATION:Seebühne im Zoologischen Stadtgarten
SUMMARY:COOL SUMMER JAZZ auf der SEEBÜHNE . Sinfonischer Jazz & Soul Jazz . Im Zoologischen Stadtgarten Karlsruhe
DESCRIPTION;ENCODING=QUOTED-PRINTABLE:Landespolizeiorchester Baden-W=C3=BCrttemberg . Leitung Prof. Stefan Halder
  . feat. Peter Lehel (sax) .  Thomas Siffling Soul Jazz Allstars . Thomas S
 iffling (t & fh) . Johannes M=C3=BCller (sax) . Thomas Bauser (eorg) . Wern
 er Acker (g) . Simon Schallwig (b) . Oliver Strauch (d)=0D=0A=0D=0A    Freuen Sie s
 ich auf DAS Sommerevent f=C3=BCr alle Jazzfans!        COOL SUMMER JAZZ    
 ist eines der sch=C3=B6nsten Konzertereignisse des Sommers und findet 2026 
 erstmals auf der     Seeb=C3=BChne im Zoologischen Stadtgarten Karlsruhe   
  statt.       Peter Lehel\,    virtuoser Saxophonist\, renommierter Komponist
  und Arrangeur\, hat f=C3=BCr den Verein ein Programm zusammengestellt\, das 
 nicht sch=C3=B6ner zur Atmosph=C3=A4re der Seeb=C3=BChne passen k=C3=B6nnte
 :      Programm      I. Teil . 19 Uhr      Landespolizeiorchester Baden-W
 =C3=BCrttemberg .    Leitung     Prof. Stefan Halder .    feat.     Peter L
 ehel    (sax)    Das=C2=A0Landespolizeiorchester Baden-W=C3=BCrttemberg (LP
 O BW) unter der Leitung von     Prof. Stefan Halder    mit=C2=A0Peter Lehel
 =C2=A0als Gastsolist er=C3=B6ffnet das Konzert. Das LPO BW ist     =E2=80
 =9EDer gute Ton der Polizei=E2=80=9C    \, z=C3=A4hlt zu den renommierten Be
 rufsblasorchestern Deutschlands und ist das einzige Orchester dieser Art in
  der Tr=C3=A4gerschaft des Landes Baden-W=C3=BCrttemberg. Ein hohes musikal
 isches Niveau und eine gro=C3=9Fe stilistische Vielseitigkeit zeichnen das 
 Orchester mit =C3=BCber 40 Musikerinnen und Musiker aus.    Als kreativer K
 =C3=BCnstler verbindet     Peter Lehel    beeindruckend Jazz\, Klassik und W
 eltmusik zu einem besonderen Klangerlebnis. Seine Kompositionen\, Arrangemen
 ts und Konzerte f=C3=BChren ihn auf B=C3=BChnen rund um den Globus. Er arbe
 itet mit internationalen Stars ebenso wie mit jungen Talenten und gestaltet
  Musik lebendig\, bewegend und grenz=C3=BCberschreitend.    II. Teil . Ab 20
 .45 Uhr    Nach der Pause folgt der Auftritt des geb=C3=BCrtigen Karlsruher
  Trompeters     Thomas Siffling    mit seiner hochkar=C3=A4tigen Band:     
  Thomas Siffling Soul-Jazz All-Stars . Back to the 70s    .  =0D=0A     Thomas 
 Siffling    (t & fh) .     Johannes M=C3=BCller    (sax) .     Thomas Bause
 r    (eorg) .     Werner Acker    (g) .     Simon Schallwig    (b) .     Ol
 iver Strauch    (d)    Freuen Sie sich auf hei=C3=9Fe Rhythmen\, treibende B
 ass Grooves und feinsten Soul Jazz im Stile der 70er Jahre. Inspiriert durc
 h Freddy Hubbard=C2=B4s Platte =E2=80=9EA Soul Experiment=E2=80=9C hat Thom
 as Siffling extra f=C3=BCr diesen Abend eine wahrhafte Dream Band zusammeng
 estellt. Das Publikum darf sich auf ein wahres musikalisches Feuerwerk im b
 esten Blue Note Style freuen.    Genie=C3=9Fen Sie das kulinarische Angebot
  von     March=C3=A9 M=C3=B6venpick    und dem     GastroTeam der Hemingway
  Lounge MONOS    mit handgepressten S=C3=A4ften\, gek=C3=BChltem Bier\, Finge
 rfood\,     wie Cool Summer Falafeln\, etc. sowie einem Cool Summer Cocktail 
 in zwei Variationen und feinen Weinen.    Seien Sie unbedingt dabei!      W
 ICHTIG!    Einlass:      Ab      17 Uhr NUR Eingang Kasse West    .=C2=A0Ba
 hnhofstrasse . Mit Abendkasse      Ab 18 Uhr Eingang Kasse Nord .    Festpl
 atz .     NUR    mit Tickets!      Alle      Angaben ohne Gew=C3=A4hr!     
  .      =C3=84nderungen vorbehalten!    =0D=0A=20
URL:https://xkale.karlsruhe.de/db/termine/musik/cool_summer_jazz_auf_der_seebuhne_sinfonischer
CLASS:PUBLIC
DTSTART:20260704T190000
DTEND:20260704T220000
DTSTAMP:20260422T132722
CATEGORIES:Musik
ATTACH:https://xkale.karlsruhe.de/db/termine/musik/cool_summer_jazz_auf_der_seebuhne_sinfonischer/file/icon_HL_4.7.2026__CoolSummerJazz_EF.jpg
END:VEVENT

END:VCALENDAR
