BEGIN:VCALENDAR
VERSION:2.0
CALSCALE:GREGORIAN
PRODID:https://xkale.karlsruhe.de/db/termine/
METHOD:PUBLISH
BEGIN:VEVENT
UID:580009
ORGANIZER;CN=Hochschule für Musik :MAILTO:pressebuero@hfm-karlsruhe.de
LOCATION:Hochschule für Musik, Velte-Saal
SUMMARY:Der musikalische Tropfen auf den heißen Stein
DESCRIPTION;ENCODING=QUOTED-PRINTABLE:Fortsetzung des Musikalischen Klimaratgebers=0D=0A=0D=0A  Musik und Wissenschaft   
  Fortsetzung des Musikalischen Klimaratgebers  =0D=0A  Vortrag mit naturwissens
 chaftlichem Inhalt  =0D=0A  Werke von Fr=C3=A9d=C3=A9ric     Chopin    \, Claude
      Debussy    \, John     Cage    \, Carlos     Salzedo    \, Luna     Donat
 h    \, Burt     Bacharach    u.a.  =0D=0A  Mitwirkende:  =0D=0A     Studierende der
  HfM Karlsruhe   =0D=0A   Prof. Dr. Friedhelm von Blanckenburg    \, Freie Unive
 rsit=C3=A4t Berlin  =0D=0A  Idee & Konzept     Prof. Maria Stange    =0D=0A  Eintri
 tt frei  =0D=0A  =0D=0A     =C3=BCber diese Veranstaltung    =0D=0A  Wir alle wissen\, w
 ie musikalisch Tropfen sein k=C3=B6nnen =E2=80=93 denken wir nur an einen W
 asserhahn\, der in vielen Tonh=C3=B6hen tropft. Wir w=C3=BCrden diesen Tropf
 en gerne abstellen\, einerseits\, um die Verschwendung zu vermeiden\, anderers
 eits\, um unsere Nerven zu beruhigen. Ganz anders verh=C3=A4lt es sich mit d
 em perlenden =E2=80=9ERegentropfen-Pr=C3=A9lude=E2=80=9D von Fr=C3=A9d=C3
 =A9ric Chopin\, das wir hingegen sehr genie=C3=9Fen.  =0D=0A  Die Effekte der Na
 tur auf uns sind uns bekannt. Wir kennen sie von hei=C3=9Fen Steinen\, Vulka
 nen und Geysiren\, aber auch von einem Saunabesuch. Wir alle nehmen wahr\, da
 ss Regen\, der auf nackten Fels prasselt\, anders klingt als Regen\, der auf w
 eichen Boden f=C3=A4llt. Dass Steine klingen k=C3=B6nnen\, hat uns beispiels
 weise P=C3=A9ter E=C3=B6tv=C3=B6s mit Werken f=C3=BCr Perkussion bewiesen. 
 Dass ein Stein\, dem Regen ausgesetzt\, nicht nur anders klingt\, sondern sich
  sogar aufl=C3=B6st und zu Boden wird =E2=80=93 ein Prozess\, der sehr lange
  dauert =E2=80=93 muss uns aus naturwissenschaftlicher Sicht erkl=C3=A4rt w
 erden. Dazu wird Prof. Dr. Friedhelm von Blanckenburg vom Fachbereich Geowi
 ssenschaften der Freien Universit=C3=A4t Berlin von Studierenden des Instit
 uts f=C3=BCr Musikjournalismus der Hochschule f=C3=BCr Musik Karlsruhe befr
 agt.  =0D=0A  =0D=0A =20
URL:https://xkale.karlsruhe.de/db/termine/musik/der_musikalische_tropfen_auf_den_heien_stein
CLASS:PUBLIC
DTSTART:20260519T193000
DTEND:
DTSTAMP:20260401T175553
CATEGORIES:Musik
ATTACH:https://xkale.karlsruhe.de/db/termine/musik/der_musikalische_tropfen_auf_den_heien_stein/file/icon_tropfen.jpg
END:VEVENT

END:VCALENDAR
