BEGIN:VCALENDAR
VERSION:2.0
CALSCALE:GREGORIAN
PRODID:https://xkale.karlsruhe.de/db/termine/
METHOD:PUBLISH
BEGIN:VEVENT
UID:578329
ORGANIZER;CN=Musik an der Christuskirche:MAILTO:kantorat@christuskirche-musik.de
LOCATION:Christuskirche Karlsruhe
SUMMARY:Die Schöpfung - Joseph Hayden
DESCRIPTION;ENCODING=QUOTED-PRINTABLE:75 Jahre Oratorienchor=0D=0A=0D=0A  Julia Obert\, Sopran | Florian Kontschak\, Bass  
   Sebastian Kohlhepp\, Tenor    Oratorienchor Karlsruhe an der Christuskirch
 e    Kammerphilharmonie Mannheim    Peter Gortner\, Leitung    Konzert mit E
 intritt. Tickets unter www.reservix.de und an der Abendkasse. =20
URL:https://xkale.karlsruhe.de/db/termine/musik/die_schopfung_joseph_hayden
CLASS:PUBLIC
DTSTART:20260621T180000
DTEND:
DTSTAMP:20260127T085506
CATEGORIES:Musik
ATTACH:https://xkale.karlsruhe.de/db/termine/musik/die_schopfung_joseph_hayden/file/icon_zugastinderchristuskirche_kategorie-2.jpg
END:VEVENT

END:VCALENDAR
