BEGIN:VCALENDAR
VERSION:2.0
CALSCALE:GREGORIAN
PRODID:https://xkale.karlsruhe.de/db/termine/
METHOD:PUBLISH
BEGIN:VEVENT
UID:579980
ORGANIZER;CN=Hochschule für Musik :MAILTO:pressebuero@hfm-karlsruhe.de
LOCATION:Hochschule für Musik, Velte-Saal
SUMMARY:DR. HERMANN BÜTTNER KLAVIERWETTBEWERB 2026
DESCRIPTION;ENCODING=QUOTED-PRINTABLE:Duo =E2=80=93 Klavier und ein Holzblasinstrument=0D=0A=0D=0A  2. Runde  =0D=0A  Dauer: 
 ca. 30 Minuten  =0D=0A  Programm:  =0D=0A  =E2=80=A2=C2=A0 =C2=A0 Freie Werkwahl  $
 $  =E2=80=A2=C2=A0 =C2=A0 Ein zeitgen=C3=B6ssisches Werk ist verpflichtend 
 einzubeziehen    Eintritt frei  =0D=0A  Veranstaltung der Adler-B=C3=BCttner-St
 iftung    Der Jury geh=C3=B6ren unter dem Vorsitz von Dr. Hermann B=C3=BCtt
 ner ausschlie=C3=9Flich Expertinnen und Experten an\, die nicht Mitglieder d
 er Hochschule f=C3=BCr Musik Karlsruhe sind =20
URL:https://xkale.karlsruhe.de/db/termine/musik/dr_hermann_buttner_klavierwettbewerb2026n-1
CLASS:PUBLIC
DTSTART:20260621T100000
DTEND:
DTSTAMP:20260401T175554
CATEGORIES:Musik
ATTACH:https://xkale.karlsruhe.de/db/termine/musik/dr_hermann_buttner_klavierwettbewerb2026n-1/file/icon_blaeserkammermusik.jpg
END:VEVENT

END:VCALENDAR
