BEGIN:VCALENDAR
VERSION:2.0
CALSCALE:GREGORIAN
PRODID:https://xkale.karlsruhe.de/db/termine/
METHOD:PUBLISH
BEGIN:VEVENT
UID:579979
ORGANIZER;CN=Hochschule für Musik :MAILTO:pressebuero@hfm-karlsruhe.de
LOCATION:Hochschule für Musik, Velte-Saal
SUMMARY:DR. HERMANN BÜTTNER KLAVIERWETTBEWERB 2026
DESCRIPTION;ENCODING=QUOTED-PRINTABLE:Duo =E2=80=93 Klavier und ein Holzblasinstrument=0D=0A=0D=0A  1. Runde  =0D=0A  Dauer: 
 ca. 20 Minuten  =0D=0A  Programm:  =0D=0A  =E2=80=A2=C2=A0 =C2=A0 Eine Sonate von P
 aul Hindemith  =0D=0A  =E2=80=A2=C2=A0 =C2=A0 Werk/e aus der Romantik oder/und 
 des Impressionismus    Eintritt frei  =0D=0A  Veranstaltung der Adler-B=C3=BCtt
 ner-Stiftung    Der Jury geh=C3=B6ren unter dem Vorsitz von Dr. Hermann B
 =C3=BCttner ausschlie=C3=9Flich Expertinnen und Experten an\, die nicht Mitg
 lieder der Hochschule f=C3=BCr Musik Karlsruhe sind =20
URL:https://xkale.karlsruhe.de/db/termine/musik/dr_hermann_buttner_klavierwettbewerb2026n
CLASS:PUBLIC
DTSTART:20260620T100000
DTEND:
DTSTAMP:20260401T175554
CATEGORIES:Musik
ATTACH:https://xkale.karlsruhe.de/db/termine/musik/dr_hermann_buttner_klavierwettbewerb2026n/file/icon_blaeserkammermusik.jpg
END:VEVENT

END:VCALENDAR
