BEGIN:VCALENDAR
VERSION:2.0
CALSCALE:GREGORIAN
PRODID:https://xkale.karlsruhe.de/db/termine/
METHOD:PUBLISH
BEGIN:VEVENT
UID:578318
ORGANIZER;CN=Musik an der Christuskirche:MAILTO:kantorat@christuskirche-musik.de
LOCATION:Christuskirche Karlsruhe
SUMMARY:ECHT? ORGEL! – Konzert III
DESCRIPTION;ENCODING=QUOTED-PRINTABLE:Johann Sebastian Bach Himmelfahrtsoratorium Olivier Messiaen L=E2=80=98asce
 nsion =E2=80=93 Die Himmelfahrt=0D=0A=0D=0A  Carmen Buchert\, Sopran    Thomas Nauwa
 rtat-Schultze\, Alt    Sebastian H=C3=BCbner\, Tenor | Philip Niederberger\, B
 ass    Kammerchor der Christuskirche    Mitglieder des Karlsruher Barockorc
 hesters    Peter Gortner\, Leitung    Carsten Wiebusch\, Orgel    Pfarrerin G
 abriele Hug\, Liturgie und Impuls    Diese Veranstaltung wird im Livestream 
 auf YouTube =C3=BCbertragen.  =0D=0A =0D=0A   HEITERES HIMMLISCHES HALLELUJA  =0D=0A   
 Der Himmelfahrtszyklus vom Katholiken Olivier Messiaen\, urspr=C3=BCnglich f
 =C3=BCr gro=C3=9Fes Sinfonieorchester    komponiert und vom Komponisten sel
 bst f=C3=BCr Orgel =C3=BCbertragen\, tritt in einen musikalisch wie theolo- 
    gisch spannungsvollen Kontrast zu J. S. Bachs protestantischer Sicht in 
 seinem prachtvollen Himmel-    fahrtsoratorium.  =0D=0A=20
URL:https://xkale.karlsruhe.de/db/termine/musik/echt_orgel_konzert_iii
CLASS:PUBLIC
DTSTART:20260514T180000
DTEND:
DTSTAMP:20260127T085047
CATEGORIES:Musik
ATTACH:https://xkale.karlsruhe.de/db/termine/musik/echt_orgel_konzert_iii/file/icon_20161204_006_ck_faszination_orgel_carsten_wiebusch_6d701dbe9ce21bacabc1a0f085f70ab9.jpg
END:VEVENT

END:VCALENDAR
