BEGIN:VCALENDAR
VERSION:2.0
CALSCALE:GREGORIAN
PRODID:https://xkale.karlsruhe.de/db/termine/
METHOD:PUBLISH
BEGIN:VEVENT
UID:578337
ORGANIZER;CN=Musik an der Christuskirche:MAILTO:kantorat@christuskirche-musik.de
LOCATION:Christuskirche Karlsruhe
SUMMARY:ECHT? ORGEL! – Konzert IV
DESCRIPTION;ENCODING=QUOTED-PRINTABLE:Bach auf Englisch - William Thomas Best zum 200.=0D=0A=0D=0A  Werke von Johann Seba
 stian Bach in Bearbeitungen    von William Thomas Best (1826=E2=80=931897) 
    Toccata und Fuge F-Dur BWV 540    Pr=C3=A4ludium und Fuge e-Moll BWV 533
     Chaconne d-Moll BWV 1004    Toccata\, Adagio und Fuge in C-Dur BWV 564  
 =0D=0A   Carsten Wiebusch\, Orgel    Treffpunkt Orgelempore: Vor dem Konzert fin
 det um 17.30 Uhr eine Einf=C3=BChrung auf der Orgelempore statt. Nach dem K
 onzert besteht die M=C3=B6glichkeit\, das Instrument aus der N=C3=A4he zu se
 hen.    =0D=0A    Die Auseinandersetzung mit Johann Sebastian Bach geh=C3=B6rt 
 zu den fruchtbarsten Kapiteln im Schaffen des englischen Meisterorganisten 
 W. T. Best. Dazu geh=C3=B6ren Bearbeitungen von ber=C3=BChmten Instrumental
 werken ebenso wie seine legend=C3=A4re Gesamtausgabe der Orgelwerke Bachs z
 u dessen 200. Geburtstag 1885\, die das Werk in England und weit dar=C3=BCbe
 r hinaus bekannt machte und in eine faszinierende\, romantische Farbe taucht
 .  =0D=0A=20
URL:https://xkale.karlsruhe.de/db/termine/musik/echt_orgel_konzert_iv
CLASS:PUBLIC
DTSTART:20260705T180000
DTEND:
DTSTAMP:20260127T090005
CATEGORIES:Musik
ATTACH:https://xkale.karlsruhe.de/db/termine/musik/echt_orgel_konzert_iv/file/icon_20161204_006_ck_faszination_orgel_carsten_wiebusch_6d701dbe9ce21bacabc1a0f085f70ab9.jpg
END:VEVENT

END:VCALENDAR
