BEGIN:VCALENDAR
VERSION:2.0
CALSCALE:GREGORIAN
PRODID:https://xkale.karlsruhe.de/db/termine/
METHOD:PUBLISH
BEGIN:VEVENT
UID:578339
ORGANIZER;CN=Musik an der Christuskirche:MAILTO:kantorat@christuskirche-musik.de
LOCATION:Christuskirche Karlsruhe
SUMMARY:ECHT? ORGEL! – Konzert V
DESCRIPTION;ENCODING=QUOTED-PRINTABLE:FREI ERFUNDEN Improvisationskonzert u. a. mit Themen aus dem Publikum=0D=0A=0D=0A  
 Martin Bambauer\, Orgel (Basilika-Organist\, Trier)    Nach dem Konzert beste
 ht die M=C3=B6glichkeit\, das Instrument aus der N=C3=A4he zu sehen.    Im R
 ahmen des Karlsruher Orgelspaziergangs und des Dt. Denkmaltags    =0D=0A    Nic
 ht nur die =C3=9Cbertragung von Musik auf die Orgel\, auch das Improvisieren
  geh=C3=B6rt zu den Besonder-    heiten des Orgelspiels. Martin Bambauer\, s
 eit 1999 Organist der Konstantinsbasilika Trier und Initiator    des Neubau
 s der gro=C3=9Fen Eule-Orgel (2014)\, geh=C3=B6rt zu den Meisterndes Faches.
  Er wird nach eigenen    Themen und Themen aus dem Publikum\, inspiriert auc
 h von der Klais-Orgel mit ihren unendlichen    M=C3=B6glichkeiten\, aus dem 
 Stehgreif gro=C3=9Fartige Musik erfinden.  =0D=0A =0D=0A=20
URL:https://xkale.karlsruhe.de/db/termine/musik/echt_orgel_konzert_v
CLASS:PUBLIC
DTSTART:20260913T180000
DTEND:
DTSTAMP:20260127T090034
CATEGORIES:Musik
ATTACH:https://xkale.karlsruhe.de/db/termine/musik/echt_orgel_konzert_v/file/icon_20161204_006_ck_faszination_orgel_carsten_wiebusch_6d701dbe9ce21bacabc1a0f085f70ab9.jpg
END:VEVENT

END:VCALENDAR
