BEGIN:VCALENDAR
VERSION:2.0
CALSCALE:GREGORIAN
PRODID:https://xkale.karlsruhe.de/db/termine/
METHOD:PUBLISH
BEGIN:VEVENT
UID:578341
ORGANIZER;CN=Musik an der Christuskirche:MAILTO:kantorat@christuskirche-musik.de
LOCATION:Christuskirche Karlsruhe
SUMMARY:ECHT? ORGEL! – Konzert VI
DESCRIPTION;ENCODING=QUOTED-PRINTABLE:Lieder von Liebe\, Leben und Tod=0D=0A=0D=0A  Hanno M=C3=BCller-Brachmann\, Bass-Bari
 ton    Carsten Wiebusch\, Orgel    Treffpunkt Orgelempore: Vor dem Konzert f
 indet um 17.30 Uhr eine Einf=C3=BChrung auf der Orgelempore statt. Nach dem
  Konzert besteht die M=C3=B6glichkeit\, das Instrument aus der N=C3=A4he zu 
 sehen.    =0D=0A    Werke:    Antonin Dvo=C5=99=C3=A1k aus: Biblische Lieder Op
 . 99    Olivier Messiaen aus: La Nativit=C3=A9 =E2=80=93 Die Geburt des Her
 rn    Frank Martin Jedermann-Monologe (Erstauff=C3=BChrung Fassung f=C3=BCr
  Gesang und Orgel)    Franz Liszt Die Vogelpredigt\, Sposalizio (Verm=C3=A4h
 lung)    Johannes Brahms Vier ernste Ges=C3=A4nge Op. 121    =0D=0A  =0D=0A   Die F
 eier von Geburt und Leben\, das Erschrecken vor dem Tod\, das Gebet =E2=80=93
  dieses Konzert er=C3=B6ffnet    einen breiten Horizont\, die Orgel wird dur
 ch die Stimme erweitert. Erstmals erklingen die Jedermann-    Monologe von 
 Frank Martin\, komponiert 1943\, in einer neuen Fassung von C. Wiebusch f=C3
 =BCr Orgel\, die    die Intensit=C3=A4t der Klavierfassung mit der Farbigkei
 t der Orchestrierung verbindet. Mit Hanno M=C3=BCller-    Brachmann ist ein
 er der herausragenden Bass-Baritone unserer Zeit erneut in der Christuskirc
 he zu Gast.  =0D=0A =0D=0A=20
URL:https://xkale.karlsruhe.de/db/termine/musik/echt_orgel_konzert_vi
CLASS:PUBLIC
DTSTART:20261025T180000
DTEND:
DTSTAMP:20260127T090125
CATEGORIES:Musik
ATTACH:https://xkale.karlsruhe.de/db/termine/musik/echt_orgel_konzert_vi/file/icon_20161204_006_ck_faszination_orgel_carsten_wiebusch_6d701dbe9ce21bacabc1a0f085f70ab9.jpg
END:VEVENT

END:VCALENDAR
