BEGIN:VCALENDAR
VERSION:2.0
CALSCALE:GREGORIAN
PRODID:https://xkale.karlsruhe.de/db/termine/
METHOD:PUBLISH
BEGIN:VEVENT
UID:580044
ORGANIZER;CN=Hochschule für Musik :MAILTO:pressebuero@hfm-karlsruhe.de
LOCATION:Hochschule für Musik Karlsruhe, CampusOne, Wolfgang-Rihm-Forum
SUMMARY:FamilienOrchesterKonzert
DESCRIPTION;ENCODING=QUOTED-PRINTABLE:Erlebnis Musik!=0D=0A=0D=0A  Interaktives Konzert  =0D=0A  Ausz=C3=BCge aus dem 25. Sin
 foniekonzert des Schulmusikorchesters  =0D=0A     SchulMusikOrchester der HfM K
 arlsruhe    =0D=0A     Elisa Laz=C3=A1ro Hernando\,    Schlagzeug  =0D=0A  Moderatio
 n & Konzept:     Studierende des Studiengangs Master Musikp=C3=A4dagogik   
  =0D=0A  Leitung:     Dr. Cornelia Wild    und     Anne Zadory    =0D=0A  =0D=0A  Ticke
 ts: 5 =E2=82=AC / 3\,00 =E2=82=AC (erm)/2\,00 =E2=82=AC Kinder  =0D=0A  hfm-karls
 ruhe.reservix.de =20
URL:https://xkale.karlsruhe.de/db/termine/musik/familienorchesterkonzert
CLASS:PUBLIC
DTSTART:20260719T113000
DTEND:
DTSTAMP:20260401T175556
CATEGORIES:Musik
ATTACH:https://xkale.karlsruhe.de/db/termine/musik/familienorchesterkonzert/file/icon_erlebnismusik_web400.jpg
END:VEVENT

END:VCALENDAR
