BEGIN:VCALENDAR
VERSION:2.0
CALSCALE:GREGORIAN
PRODID:https://xkale.karlsruhe.de/db/termine/
METHOD:PUBLISH
BEGIN:VEVENT
UID:578338
ORGANIZER;CN=Musik an der Christuskirche:MAILTO:kantorat@christuskirche-musik.de
LOCATION:Christuskirche Karlsruhe
SUMMARY:Figure Humaine Kammerchor
DESCRIPTION;ENCODING=QUOTED-PRINTABLE:Music on Demand=0D=0A=0D=0A  Werke von G. Verdi\, P. Hindemith\, F. Poulenc\, A. Becke
 r    Denis Rouger\, Leitung    Konzert mit Eintritt. Tickets unter www.reser
 vix.de und an der Abendkasse. =20
URL:https://xkale.karlsruhe.de/db/termine/musik/figure_humaine_kammerchor
CLASS:PUBLIC
DTSTART:20260719T180000
DTEND:
DTSTAMP:20260127T085944
CATEGORIES:Musik
ATTACH:https://xkale.karlsruhe.de/db/termine/musik/figure_humaine_kammerchor/file/icon_MOD Termin.jpg
END:VEVENT

END:VCALENDAR
