BEGIN:VCALENDAR
VERSION:2.0
CALSCALE:GREGORIAN
PRODID:https://xkale.karlsruhe.de/db/termine/
METHOD:PUBLISH
BEGIN:VEVENT
UID:578340
ORGANIZER;CN=Musik an der Christuskirche:MAILTO:kantorat@christuskirche-musik.de
LOCATION:Christuskirche Karlsruhe
SUMMARY:Frauenkammerchor Ex-semble
DESCRIPTION;ENCODING=QUOTED-PRINTABLE:Music on Demand - Even when he is silent=0D=0A=0D=0A  Sabrina von Lydinghausen\, Har
 fe    Christoph Ha=C3=9Fler\, Leitung    Konzert mit Eintritt. Tickets unter
  www.reservix.de und an der Abendkasse. =20
URL:https://xkale.karlsruhe.de/db/termine/musik/frauenkammerchor_ex_semble
CLASS:PUBLIC
DTSTART:20260927T180000
DTEND:
DTSTAMP:20260127T090059
CATEGORIES:Musik
ATTACH:https://xkale.karlsruhe.de/db/termine/musik/frauenkammerchor_ex_semble/file/icon_MOD Termin.jpg
END:VEVENT

END:VCALENDAR
